Workbook

Sheet Champ - Echantillonnage
C1: © Axel VINCENT AVEX2011 | D1: Calcul de champ et d'échantillonage AVEX
C2: En bleu : les champs à renseigner (liste déroulante ou valeurs à saisir)
C3: En rouge : les résultats
C5: Calcul du champ photo et de l'échantillonnage
C7: Tube optique | G7: Barlow - Réducteur (×) | H7: Longueur d'onde considérée | J7: Turbulence (") | K7: Imageur | P7: Champ ( ° ' " ) | S7: Taille d'un objet
C8: Marque | E8: Modèle | K8: Marque | M8: Modèle | P8: Largeur | Q8: Hauteur | R8: Diagonale | S8: ° | T8: ' | U8: " | V8: (pixels)
C9: ASA | E9: 8N-OK3 | G9: 1 | H9: Vert (550 nm) | J9: 2 | K9: QHY | M9: QHY183M/C | P9: =VLOOKUP(M9,Caméras!B2:R200,4,0)*180/PI()/24/VLOOKUP(E9,'Tubes optiques'!B2:E136,3,0)/G9 -> 0.044099182 | Q9: =VLOOKUP(M9,Caméras!B2:R200,5,0)*180/PI()/24/VLOOKUP(E9,'Tubes optiques'!B2:E136,3,0)/G9 -> 0.02937735 | R9: =(VLOOKUP(M9,Caméras!B2:R200,5,0)^2+VLOOKUP(M9,Caméras!B2:R200,4,0)^2)^0.5*180/PI()/24/VLOOKUP(E9,'Tubes optiques'!B2:E136,3,0)/G9 -> 0.052988362 | S9: 0 | T9: 10 | U9: 0 | V9: =($S9*3600+$T9*60+$U9)/P14 -> 872.68496
C11: Diamètre | E11: =ROUND(VLOOKUP(E9,'Tubes optiques'!B2:E136,2,0),1)&" mm" -> 200 mm | K11: Capteur | M11: =IF(VLOOKUP(M9,Caméras!B2:R200,2,0)=0,"---",VLOOKUP(M9,Caméras!B2:R200,2,0)) -> IMX183 (BSI)
C12: Focale | E12: =ROUND(VLOOKUP(E9,'Tubes optiques'!B2:E136,3,0),0)&" mm" -> 720 mm | G12: =IF(G9=1," ",ROUND(G9*VLOOKUP(E9,'Tubes optiques'!B2:E136,3,0),0)&" mm") | K12: Type | M12: =VLOOKUP(M9,Caméras!B2:R200,3,0) -> CMOS | P12: Ech. ("/pixel) | Q12: Echantillonnage idéal | S12: Echantillonnage actuel
C13: F/D | E13: =VLOOKUP(E9,'Tubes optiques'!B2:E136,4,0) -> 3.6 | G13: =IF(G9=1," ",ROUND(G9*VLOOKUP(E9,'Tubes optiques'!B2:E136,4,0),1)) | K13: Résolution | M13: =VLOOKUP(M9,Caméras!B2:R200,6,0)&"×"&VLOOKUP(M9,Caméras!B2:R200,7,0) -> 5544×3694 | W13: =VLOOKUP(M9,Caméras!B2:R103,8,0)*206.26/(MAX(VLOOKUP(E9,'Tubes optiques'!B2:F136,5,0),J9)/2) -> #N/A
C14: Résolution | E14: =IF(VLOOKUP(E9,'Tubes optiques'!B2:F136,5,0)<1,ROUND(VLOOKUP(E9,'Tubes optiques'!B2:F136,5,0),2),IF(VLOOKUP(E9,'Tubes optiques'!B2:F136,5,0)<10,ROUND(VLOOKUP(E9,'Tubes optiques'!B2:F136,5,0),1),ROUND(VLOOKUP(E9,'Tubes optiques'!B2:F136,5,0),0)))&"''" -> 0,69'' | K14: Photosites | M14: =VLOOKUP(M9,Caméras!B2:R200,8,0)&" µm" -> 2,4 µm | P14: =VLOOKUP(M9,Caméras!B2:R200,8,0)*206.26/VLOOKUP(E9,'Tubes optiques'!B2:E136,3,0)/G9 -> 0.68753333 | Q14: =ROUND(VLOOKUP(M9,Caméras!B2:R200,8,0)*206.26/(MAX(VLOOKUP(E9,'Tubes optiques'!B2:F136,5,0),J9)/2),0)&" mm < Focale < "&ROUND(VLOOKUP(M9,Caméras!B2:R200,8,0)*206.26/(MAX(VLOOKUP(E9,'Tubes optiques'!B2:F136,5,0),J9)/3),0)&" mm" -> 495 mm < Focale < 743 mm | S14: =IF(ROUND(G9*VLOOKUP(E9,'Tubes optiques'!B2:E135,3,0),0)<ROUND(VLOOKUP(M9,Caméras!B2:R200,8,0)*206.26/(MAX(VLOOKUP(E9,'Tubes optiques'!B2:F135,5,0),J9)/2),0),"Sous-échantillonnage",IF(ROUND(G9*VLOOKUP(E9,'Tubes optiques'!B2:E135,3,0),0)>ROUND(VLOOKUP(M9,Caméras!B2:R200,8,0)*206.26/(MAX(VLOOKUP(E9,'Tubes optiques'!B2:F135,5,0),J9)/3),0),"Sur-échantillonnage","Echantillonnage correct")) -> Echantillonnage correct | W14: =G9*VLOOKUP(E9,'Tubes optiques'!B2:E136,3,0) -> 720
K15: L (mm) | M15: =ROUND(VLOOKUP(M9,Caméras!B2:R200,4,0),2)&" mm" -> 13,3 mm | Q15: =ROUND(VLOOKUP(M9,Caméras!B2:R200,8,0)*206.26/(MAX(VLOOKUP(E9,'Tubes optiques'!B2:F136,5,0),J9)/2)/VLOOKUP(E9,'Tubes optiques'!B2:E136,2,0),0)&" < F/D < "&ROUND(VLOOKUP(M9,Caméras!B2:R200,8,0)*206.26/(MAX(VLOOKUP(E9,'Tubes optiques'!B2:F136,5,0),J9)/3)/VLOOKUP(E9,'Tubes optiques'!B2:E136,2,0),0) -> 2 < F/D < 4 | W15: =VLOOKUP(M9,Caméras!B2:R103,8,0)*206.26/(MAX(VLOOKUP(E9,'Tubes optiques'!B2:F136,5,0),J9)/3) -> #N/A
K16: H (mm) | M16: =ROUND(VLOOKUP(M9,Caméras!B2:R200,5,0),2)&" mm" -> 8,86 mm
K17: Mégapixels | M17: =VLOOKUP(M9,Caméras!B2:R200,9,0) -> 20
K18: Cadence | M18: =IF(VLOOKUP(M9,Caméras!B2:R200,10,0)=0,"---",VLOOKUP(M9,Caméras!B2:R200,10,0)&" im/s") -> 15FPS@20.48 million pixels im/s
K19: Dynamique réelle | M19: =IF(VLOOKUP(M9,Caméras!B2:R200,11,0)=0,"---",VLOOKUP(M9,Caméras!B2:R200,11,0)) -> ---
C20: Tube optique, capteur et longueur d'onde non référencés | K20: Numérisation | M20: =IF(VLOOKUP(M9,Caméras!B2:R200,12,0)=0,"---",VLOOKUP(M9,Caméras!B2:R200,12,0)&" bits") -> 8bit/16bit bits
K21: Bruit de lecture | M21: =IF(VLOOKUP(M9,Caméras!B2:R200,13,0)=0,"---",VLOOKUP(M9,Caméras!B2:R200,13,0)) -> 2.7e@low gain 1.0e@high gain
K22: Courant d'obscurité | M22: =IF(VLOOKUP(M9,Caméras!B2:R200,14,0)=0,"---",VLOOKUP(M9,Caméras!B2:R200,14,0)) -> 0.0024e/p/s @ -15C
C23: Tube optique | E23: Capteur | H23: λ (nm) | K23: Temps de chargement | M23: =IF(VLOOKUP(M9,Caméras!B2:R200,15,0)=0,"---",VLOOKUP(M9,Caméras!B2:R200,15,0)) -> ---
C24: Ø (mm) | D24: F (mm) | E24: L (mm) | F24: H (mm) | G24: Pixels (µm) | K24: Capacité des pixels | M24: =IF(VLOOKUP(M9,Caméras!B2:R200,16,0)=0,"---",VLOOKUP(M9,Caméras!B2:R200,16,0)) -> ---
C25: 80 | D25: 600 | K25: Refroidissement | M25: =IF(VLOOKUP(M9,Caméras!B2:R200,17,0)=0,"---",VLOOKUP(M9,Caméras!B2:R200,17,0)) -> ---
C30: Mode d'emploi :
C32: 1) Sélectionner Marque et Modèle de tube optique et d'imageur au moyen des menus déroulants (cliquer dans les cases idoines pour que les ascenceurs apparaissent).
C33: 2) Dans la case "Barlow - Réducteur", saisir au clavier la valeur du coefficient qui va bien (mettre 1 si aucun complément optique n'est utilisé).
C34: 3) Sélectionner la longueur d'onde de la lumière utilisée.
C35: 3) La valeur généralement prise par défaut est le vert à 550 nm. En cas d'utilisation de filtres colorés, sélectionner la longueur d'onde idoine. L'utilisateur peut aussi choisir une longueur d'ondeUn valeur utilisateur peut être utilisée (rensieigner la case D29)
C36: 3) La résolution de l'instrument et l'amplitude de la turbulence dépendent de ce paramètre.
C37: 4) Dans la case "Turbulence", saisir la valeur correspondant à l'amplitude de la turbulence intégrée sur la durée de la pose (dépend du lieu et des conditions atmosphérique du moment) :
D38: Imagerie planétaire : amplitude typiquement comprise entre 0,5" et 2" sur un temps de pose généralement inférieur à 0,1 s (cadence > 10 images/s).
D39: Imagerie du ciel profond : amplitude typiquement comprise entre 2" et 4" sur des poses de quelques minutes.
C41: Le calcul de l'échantillonnage idéal est fait en appliquant le théorème d'échantillonnage de Nyquist-Shannon à partir du paramètre limitant (résolution instrumentale ou turbulence).
C42: Le calcul de l'échantillonnage apparaît en vert s'il est correct ou en rouge dans le cas contraire, et se fait à partir de la focale résultante de l'instrument (prend en compte la valeur du champ "Barlow - Réducteur").
C44: Si l'instrument souhaité n'apparaît pas dans les menus déroulants, alors sélectionner "Autre_Optique" + "Valeurs utilisateur" et saisir les valeurs idoine dans la section "Tube optique, capteur et longueur d'onde non référencés".
C45: Si l'imageur souhaité n'apparaît pas dans les menus déroulants, alors sélectionner "Autre_Imageur" + "Valeurs utilisateur" et saisir les valeurs idoine dans la section "Tube optique, capteur et longueur d'onde non référencés".
C46: Si la longueur d'onde souhaitée n'apparaît pas dans le menu déroulant, alors sélectionner "Valeur utilisateur" et saisir la valeur idoine dans la section "Tube optique, capteur et longueur d'onde non référencés".
C48: Il est aussi possible de voir quelle taille (en pixels) fera l'objet imagé sur le capteur en renseignant les cellules "Taille de l'objet" en bleu.

Sheet Tubes optiques
A1: Marque | B1: Modèle | C1: Ø (mm) | D1: F (mm) | E1: F/D | F1: ="R ('') λ = "&VLOOKUP('Champ - Echantillonnage'!$H$9,H2:I12,2,0)&" nm" -> R ('') λ = 550 nm | H1: Choix couleur | I1: λ (nm) | K1: Liste des marques
A2: ASA | B2: 8N-OK3 | C2: 200 | D2: 720 | E2: =ROUND(D2/C2,1) -> 3.6 | F2: =0.25164*VLOOKUP('Champ - Echantillonnage'!$H$9,'Tubes optiques'!$H$2:$I$12,2,0)/C2 -> 0.69201 | H2: ="Infrarouge ("&I2&" nm)" -> Infrarouge (800 nm) | I2: 800 | K2: ASA
B3: 10N-OK3 | C3: 250 | D3: 900 | E3: =ROUND(D3/C3,1) -> 3.6 | F3: =0.25164*VLOOKUP('Champ - Echantillonnage'!$H$9,'Tubes optiques'!$H$2:$I$12,2,0)/C3 -> 0.553608 | H3: ="Rouge ("&I3&" nm)" -> Rouge (650 nm) | I3: 650 | K3: Astrophysics
B4: 12N-OK3 | C4: 300 | D4: 1080 | E4: =ROUND(D4/C4,1) -> 3.6 | F4: =0.25164*VLOOKUP('Champ - Echantillonnage'!$H$9,'Tubes optiques'!$H$2:$I$12,2,0)/C4 -> 0.46134 | H4: ="Vert ("&I4&" nm)" -> Vert (550 nm) | I4: 550 | K4: Astro_Tech
B5: 16N-OK3 | C5: 400 | D5: 1440 | E5: =ROUND(D5/C5,1) -> 3.6 | F5: =0.25164*VLOOKUP('Champ - Echantillonnage'!$H$9,'Tubes optiques'!$H$2:$I$12,2,0)/C5 -> 0.346005 | H5: ="Bleu ("&I5&" nm)" -> Bleu (450 nm) | I5: 450 | K5: Canon_Objectifs
B6: 20N-OK3 | C6: 500 | D6: 1900 | E6: =ROUND(D6/C6,1) -> 3.8 | F6: =0.25164*VLOOKUP('Champ - Echantillonnage'!$H$9,'Tubes optiques'!$H$2:$I$12,2,0)/C6 -> 0.276804 | H6: ="Ultraviolet ("&I6&" nm)" -> Ultraviolet (300 nm) | I6: 300 | K6: Celestron
A7: Astrophysics | B7: 160-EDF | C7: 160 | D7: 1200 | E7: =ROUND(D7/C7,1) -> 7.5 | F7: =0.25164*VLOOKUP('Champ - Echantillonnage'!$H$9,'Tubes optiques'!$H$2:$I$12,2,0)/C7 -> 0.8650125 | H7: ="Hα ("&I7&" nm)" -> Hα (656,3 nm) | I7: 656.3 | K7: GSO
B8: 140-EDF | C8: 140 | D8: 1050 | E8: =ROUND(D8/C8,1) -> 7.5 | F8: =0.25164*VLOOKUP('Champ - Echantillonnage'!$H$9,'Tubes optiques'!$H$2:$I$12,2,0)/C8 -> 0.98858571 | H8: ="Hβ ("&I8&" nm)" -> Hβ (486,1 nm) | I8: 486.1 | K8: Meade
B9: 130-EDF "Gran Turismo" | C9: 130 | D9: 819 | E9: =ROUND(D9/C9,1) -> 6.3 | F9: =0.25164*VLOOKUP('Champ - Echantillonnage'!$H$9,'Tubes optiques'!$H$2:$I$12,2,0)/C9 -> 1.0646308 | H9: ="Hγ ("&I9&" nm)" -> Hγ (434,1 nm) | I9: 434.1 | K9: Officina_Stellare
B10: 155-EDT | C10: 155 | D10: 1395 | E10: =ROUND(D10/C10,1) -> 9 | F10: =0.25164*VLOOKUP('Champ - Echantillonnage'!$H$9,'Tubes optiques'!$H$2:$I$12,2,0)/C10 -> 0.89291613 | H10: ="OIII ("&I10&" nm)" -> OIII (500,7 nm) | I10: 500.7 | K10: Orion
B11: 155-EDF | C11: 155 | D11: 1085 | E11: =ROUND(D11/C11,1) -> 7 | F11: =0.25164*VLOOKUP('Champ - Echantillonnage'!$H$9,'Tubes optiques'!$H$2:$I$12,2,0)/C11 -> 0.89291613 | H11: ="SII ("&I11&" nm)" -> SII (671,8 nm) | I11: 671.8 | K11: Skywatcher
B12: 130-EDFS | C12: 130 | D12: 780 | E12: =ROUND(D12/C12,1) -> 6 | F12: =0.25164*VLOOKUP('Champ - Echantillonnage'!$H$9,'Tubes optiques'!$H$2:$I$12,2,0)/C12 -> 1.0646308 | H12: Valeur utilisateur | I12: ='Champ - Echantillonnage'!H25 -> 0 | K12: Takahashi
B13: 130-EDT | C13: 130 | D13: 1040 | E13: =ROUND(D13/C13,1) -> 8 | F13: =0.25164*VLOOKUP('Champ - Echantillonnage'!$H$9,'Tubes optiques'!$H$2:$I$12,2,0)/C13 -> 1.0646308 | K13: TEC
B14: 105-EDFS "Traveller" | C14: 105 | D14: 819 | E14: =ROUND(D14/C14,1) -> 7.8 | F14: =0.25164*VLOOKUP('Champ - Echantillonnage'!$H$9,'Tubes optiques'!$H$2:$I$12,2,0)/C14 -> 1.3181143 | K14: Televue
B15: Riccardi-Honders-305mm | C15: 305 | D15: 1159 | E15: =ROUND(D15/C15,1) -> 3.8 | F15: =0.25164*VLOOKUP('Champ - Echantillonnage'!$H$9,'Tubes optiques'!$H$2:$I$12,2,0)/C15 -> 0.45377705 | K15: TMB
A16: Atro-Tech | B16: AT65EDQ | C16: 65 | D16: 420 | E16: =ROUND(D16/C16,1) -> 6.5 | F16: =0.25164*VLOOKUP('Champ - Echantillonnage'!$H$9,'Tubes optiques'!$H$2:$I$12,2,0)/C16 -> 2.1292615 | K16: Vixen
B17: AT72ED | C17: 72 | D17: 430 | E17: =ROUND(D17/C17,1) -> 6 | F17: =0.25164*VLOOKUP('Champ - Echantillonnage'!$H$9,'Tubes optiques'!$H$2:$I$12,2,0)/C17 -> 1.92225 | K17: William_Optics
B18: AT80LE | C18: 80 | D18: 480 | E18: =ROUND(D18/C18,1) -> 6 | F18: =0.25164*VLOOKUP('Champ - Echantillonnage'!$H$9,'Tubes optiques'!$H$2:$I$12,2,0)/C18 -> 1.730025 | K18: Autre_Optique
B19: AT90EDT | C19: 90 | D19: 600 | E19: =ROUND(D19/C19,1) -> 6.7 | F19: =0.25164*VLOOKUP('Champ - Echantillonnage'!$H$9,'Tubes optiques'!$H$2:$I$12,2,0)/C19 -> 1.5378
B20: AT106 | C20: 106 | D20: 690 | E20: =ROUND(D20/C20,1) -> 6.5 | F20: =0.25164*VLOOKUP('Champ - Echantillonnage'!$H$9,'Tubes optiques'!$H$2:$I$12,2,0)/C20 -> 1.3056792
B21: AT111EDT | C21: 111 | D21: 777 | E21: =ROUND(D21/C21,1) -> 7 | F21: =0.25164*VLOOKUP('Champ - Echantillonnage'!$H$9,'Tubes optiques'!$H$2:$I$12,2,0)/C21 -> 1.2468649
B22: AT130 | C22: 130 | D22: 780 | E22: =ROUND(D22/C22,1) -> 6 | F22: =0.25164*VLOOKUP('Champ - Echantillonnage'!$H$9,'Tubes optiques'!$H$2:$I$12,2,0)/C22 -> 1.0646308
B23: RC 6" | C23: 152 | D23: 1370 | E23: =ROUND(D23/C23,1) -> 9 | F23: =0.25164*VLOOKUP('Champ - Echantillonnage'!$H$9,'Tubes optiques'!$H$2:$I$12,2,0)/C23 -> 0.91053947
B24: RC 8" | C24: 203 | D24: 1625 | E24: =ROUND(D24/C24,1) -> 8 | F24: =0.25164*VLOOKUP('Champ - Echantillonnage'!$H$9,'Tubes optiques'!$H$2:$I$12,2,0)/C24 -> 0.68178325
B25: RC 10" | C25: 250 | D25: 2000 | E25: =ROUND(D25/C25,1) -> 8 | F25: =0.25164*VLOOKUP('Champ - Echantillonnage'!$H$9,'Tubes optiques'!$H$2:$I$12,2,0)/C25 -> 0.553608
A26: Celestron | B26: ONYX 80ED | C26: 80 | D26: 500 | E26: =ROUND(D26/C26,1) -> 6.3 | F26: =0.25164*VLOOKUP('Champ - Echantillonnage'!$H$9,'Tubes optiques'!$H$2:$I$12,2,0)/C26 -> 1.730025
B27: C8 | C27: 203 | D27: 2032 | E27: =ROUND(D27/C27,1) -> 10 | F27: =0.25164*VLOOKUP('Champ - Echantillonnage'!$H$9,'Tubes optiques'!$H$2:$I$12,2,0)/C27 -> 0.68178325
B28: C9 | C28: 235 | D28: 2350 | E28: =ROUND(D28/C28,1) -> 10 | F28: =0.25164*VLOOKUP('Champ - Echantillonnage'!$H$9,'Tubes optiques'!$H$2:$I$12,2,0)/C28 -> 0.58894468
B29: C11 | C29: 280 | D29: 2800 | E29: =ROUND(D29/C29,1) -> 10 | F29: =0.25164*VLOOKUP('Champ - Echantillonnage'!$H$9,'Tubes optiques'!$H$2:$I$12,2,0)/C29 -> 0.49429286
B30: C14 | C30: 355 | D30: 3910 | E30: =ROUND(D30/C30,1) -> 11 | F30: =0.25164*VLOOKUP('Champ - Echantillonnage'!$H$9,'Tubes optiques'!$H$2:$I$12,2,0)/C30 -> 0.38986479
A31: GSO | B31: RC 6" | C31: 152 | D31: 1370 | E31: =ROUND(D31/C31,1) -> 9 | F31: =0.25164*VLOOKUP('Champ - Echantillonnage'!$H$9,'Tubes optiques'!$H$2:$I$12,2,0)/C31 -> 0.91053947
B32: RC 8" | C32: 203 | D32: 1624 | E32: =ROUND(D32/C32,1) -> 8 | F32: =0.25164*VLOOKUP('Champ - Echantillonnage'!$H$9,'Tubes optiques'!$H$2:$I$12,2,0)/C32 -> 0.68178325
B33: RC 10" | C33: 254 | D33: 2000 | E33: =ROUND(D33/C33,1) -> 7.9 | F33: =0.25164*VLOOKUP('Champ - Echantillonnage'!$H$9,'Tubes optiques'!$H$2:$I$12,2,0)/C33 -> 0.54488976
B34: RC 12" | C34: 305 | D34: 2432 | E34: =ROUND(D34/C34,1) -> 8 | F34: =0.25164*VLOOKUP('Champ - Echantillonnage'!$H$9,'Tubes optiques'!$H$2:$I$12,2,0)/C34 -> 0.45377705
A35: Meade | B35: LX200-8" | C35: 203 | D35: 2000 | E35: =ROUND(D35/C35,1) -> 9.9 | F35: =0.25164*VLOOKUP('Champ - Echantillonnage'!$H$9,'Tubes optiques'!$H$2:$I$12,2,0)/C35 -> 0.68178325
B36: LX200-10" | C36: 254 | D36: 2500 | E36: =ROUND(D36/C36,1) -> 9.8 | F36: =0.25164*VLOOKUP('Champ - Echantillonnage'!$H$9,'Tubes optiques'!$H$2:$I$12,2,0)/C36 -> 0.54488976
B37: LX200-12" | C37: 305 | D37: 3048 | E37: =ROUND(D37/C37,1) -> 10 | F37: =0.25164*VLOOKUP('Champ - Echantillonnage'!$H$9,'Tubes optiques'!$H$2:$I$12,2,0)/C37 -> 0.45377705
B38: LX200-14" | C38: 355 | D38: 3556 | E38: =ROUND(D38/C38,1) -> 10 | F38: =0.25164*VLOOKUP('Champ - Echantillonnage'!$H$9,'Tubes optiques'!$H$2:$I$12,2,0)/C38 -> 0.38986479
B39: LX200-16" | C39: 406 | D39: 4064 | E39: =ROUND(D39/C39,1) -> 10 | F39: =0.25164*VLOOKUP('Champ - Echantillonnage'!$H$9,'Tubes optiques'!$H$2:$I$12,2,0)/C39 -> 0.34089163
B40: LX90-8" | C40: 203 | D40: 2034 | E40: =ROUND(D40/C40,1) -> 10 | F40: =0.25164*VLOOKUP('Champ - Echantillonnage'!$H$9,'Tubes optiques'!$H$2:$I$12,2,0)/C40 -> 0.68178325
...

Sheet Caméras
A1: Marque | B1: Modèle | C1: Capteur | D1: Type | E1: Largeur (mm) | F1: Hauteur (mm) | G1: Largeur (pixels) | H1: Hauteur (pixels) | I1: Photosites (µm) | J1: Mégapixels | K1: Cadence (im/s) | L1: Dynamique | M1: Numérisation (bits) | N1: Bruit de lecture | O1: Courant d'obscurité à 0°C | P1: Temps de chargement d'une image | Q1: Capacité des pixels | R1: Refroidissement | T1: Liste des marques
A2: ATIK | B2: 314L | C2: Sony ICX285AL | D2: CCD | E2: =G2*I2*0.001 -> 8.9784 | F2: =H2*I2*0.001 -> 6.708 | G2: 1392 | H2: 1040 | I2: 6.45 | J2: =0.000001*G2*H2 -> 1.44768 | M2: 16 | N2: 4 e- rms | R2: ΔT - 25°C | T2: ATIK
B3: 320E | C3: Sony ICX274AL | D3: CCD | E3: =G3*I3*0.001 -> 7.128 | F3: =H3*I3*0.001 -> 5.368 | G3: 1620 | H3: 1220 | I3: 4.4 | J3: =0.000001*G3*H3 -> 1.9764 | M3: 16 | N3: 3 e- rms | R3: ΔT - 25°C | T3: Basler
B4: 383L+ | C4: Kodak KAF-8300 | D4: CCD | E4: =G4*I4*0.001 -> 17.9604 | F4: =H4*I4*0.001 -> 13.5216 | G4: 3326 | H4: 2504 | I4: 5.4 | J4: =0.000001*G4*H4 -> 8.328304 | M4: 16 | N4: 7 e- rms | R4: ΔT -40°C | T4: Canon
B5: 4000 | C5: Kodak KAI-4022 | D5: CCD | E5: =G5*I5*0.001 -> 15.1552 | F5: =H5*I5*0.001 -> 15.1552 | G5: 2048 | H5: 2048 | I5: 7.4 | J5: =0.000001*G5*H5 -> 4.194304 | M5: 16 | N5: 11 e- rms | O5: 0,01 e-/s à -20°C | Q5: 40000 e- | R5: ΔT -40°C | T5: Lumenera
B6: 460EX | C6: Sony ICX694/5 | D6: CCD | E6: =G6*I6*0.001 -> 12.48046 | F6: =H6*I6*0.001 -> 9.98346 | G6: 2749 | H6: 2199 | I6: 4.54 | J6: =0.000001*G6*H6 -> 6.045051 | M6: 16 | N6: 5 e-rms | O6: 0,0004 e/s à -10°C | Q6: 18000 | R6: ΔT -25°C | T6: Nikon
B7: 11000 | C7: Kodak KAI 11002 | D7: CCD | E7: =G7*I7*0.001 -> 36.072 | F7: =H7*I7*0.001 -> 24.048 | G7: 4008 | H7: 2672 | I7: 9 | J7: =0.000001*G7*H7 -> 10.709376 | M7: 16 | N7: 13 e- rms | O7: 0,03 e-/s à -20°C | Q7: 60000 e- | R7: ΔT -38°C | T7: QHY
B8: Titan | C8: Sony ICX424 | D8: CCD | E8: =G8*I8*0.001 -> 4.8766 | F8: =H8*I8*0.001 -> 3.6556 | G8: 659 | H8: 494 | I8: 7.4 | J8: =0.000001*G8*H8 -> 0.325546 | M8: 16 | N8: 7 e- rms | R8: ΔT - 20°C | T8: QSI
A9: Basler | B9: acA640-100gm | C9: Sony ICX618 | D9: CCD | E9: =G9*I9*0.001 -> 3.6904 | F9: =H9*I9*0.001 -> 2.7664 | G9: 659 | H9: 494 | I9: 5.6 | J9: =0.000001*G9*H9 -> 0.325546 | K9: 102 / 122 | L9: 10,6 bits | M9: 8 ou 12 | T9: SBIG
B10: acA1300-30gm | C10: Sony ICX445 | D10: CCD | E10: =G10*I10*0.001 -> 4.86 | F10: =H10*I10*0.001 -> 3.6225 | G10: 1296 | H10: 966 | I10: 3.75 | J10: =0.000001*G10*H10 -> 1.251936 | K10: 32 | L10: 9,5 bits | M10: 9 ou 12 | T10: Starlight_Xpress
B11: acA1600-20gm | C11: Sony ICX274 | D11: CCD | E11: =G11*I11*0.001 -> 7.1632 | F11: =H11*I11*0.001 -> 5.4384 | G11: 1628 | H11: 1236 | I11: 4.4 | J11: =0.000001*G11*H11 -> 2.012208 | K11: 17 | L11: 10,1 bits | M11: 10 ou 12 | T11: The_Imaging_Source
A12: Canon | B12: EOS 1000D | D12: CMOS | E12: 22.2 | F12: 14.8 | G12: 3888 | H12: 2592 | I12: =ROUND(E12/G12*1000,1) -> 5.7 | J12: =0.000001*G12*H12 -> 10.077696 | T12: ZWO
B13: EOS 1100D | D13: CMOS | E13: 22.2 | F13: 14.8 | G13: 4272 | H13: 2848 | I13: =ROUND(E13/G13*1000,1) -> 5.2 | J13: =0.000001*G13*H13 -> 12.166656
B14: EOS 300D | D14: CMOS | E14: 22.7 | F14: 15.1 | G14: 3072 | H14: 2048 | I14: =ROUND(E14/G14*1000,1) -> 7.4 | J14: =0.000001*G14*H14 -> 6.291456
B15: EOS 350D | D15: CMOS | E15: 22.2 | F15: 14.8 | G15: 3456 | H15: 2304 | I15: =ROUND(E15/G15*1000,1) -> 6.4 | J15: =0.000001*G15*H15 -> 7.962624
B16: EOS 400D | D16: CMOS | E16: 22.2 | F16: 14.8 | G16: 3888 | H16: 2592 | I16: =ROUND(E16/G16*1000,1) -> 5.7 | J16: =0.000001*G16*H16 -> 10.077696
B17: EOS 450D | D17: CMOS | E17: 22.2 | F17: 14.8 | G17: 4272 | H17: 2848 | I17: =ROUND(E17/G17*1000,1) -> 5.2 | J17: =0.000001*G17*H17 -> 12.166656
B18: EOS 500D | D18: CMOS | E18: 22.3 | F18: 14.9 | G18: 4752 | H18: 3168 | I18: =ROUND(E18/G18*1000,1) -> 4.7 | J18: =0.000001*G18*H18 -> 15.054336
B19: EOS 550D | D19: CMOS | E19: 22.3 | F19: 14.9 | G19: 5184 | H19: 3456 | I19: =ROUND(E19/G19*1000,1) -> 4.3 | J19: =0.000001*G19*H19 -> 17.915904
B20: EOS 600D | D20: CMOS | E20: 22.3 | F20: 14.9 | G20: 5184 | H20: 3456 | I20: =ROUND(E20/G20*1000,1) -> 4.3 | J20: =0.000001*G20*H20 -> 17.915904
B21: EOS 10D | D21: CMOS | E21: 22.7 | F21: 15.1 | G21: 3072 | H21: 2048 | I21: =ROUND(E21/G21*1000,1) -> 7.4 | J21: =0.000001*G21*H21 -> 6.291456
B22: EOS 20D | D22: CMOS | E22: 22.5 | F22: 15 | G22: 3504 | H22: 2336 | I22: =ROUND(E22/G22*1000,1) -> 6.4 | J22: =0.000001*G22*H22 -> 8.185344
B23: EOS 30D | D23: CMOS | E23: 22.5 | F23: 15 | G23: 3504 | H23: 2336 | I23: =ROUND(E23/G23*1000,1) -> 6.4 | J23: =0.000001*G23*H23 -> 8.185344
B24: EOS 40D | D24: CMOS | E24: 22.2 | F24: 14.8 | G24: 3888 | H24: 2592 | I24: =ROUND(E24/G24*1000,1) -> 5.7 | J24: =0.000001*G24*H24 -> 10.077696
... B36: EOS 1Ds MkIII | D36: CMOS | E36: 36 | F36: 24 | G36: 5616 | H36: 3744 | I36: =ROUND(E36/G36*1000,1) -> 6.4 | J36: =0.000001*G36*H36 -> 21.026304
A37: Lumenera | B37: SKYnyx 2,0 | C37: Sony ICX424 | D37: CCD | E37: =G37*I37*0.001 -> 4.736 | F37: =H37*I37*0.001 -> 3.552 | G37: 640 | H37: 480 | I37: 7.4 | J37: =0.000001*G37*H37 -> 0.3072 | K37: 60 | M37: 8 ou 12
B38: SKYnyx 2,1 | C38: Sony ICX205 | D38: CCD | E38: =G38*I38*0.001 -> 6.4728 | F38: =H38*I38*0.001 -> 4.836 | G38: 1392 | H38: 1040 | I38: 4.65 | J38: =0.000001*G38*H38 -> 1.44768 | K38: 15 | M38: 8 ou 12
B39: SKYnyx 2,2 | C39: Sony ICX274 | D39: CCD | E39: =G39*I39*0.001 -> 7.1104 | F39: =H39*I39*0.001 -> 5.4208 | G39: 1616 | H39: 1232 | I39: 4.4 | J39: =0.000001*G39*H39 -> 1.990912 | K39: 12 | M39: 8 ou 12
A40: Nikon | B40: D40 | D40: CCD | E40: 23.7 | F40: 15.6 | G40: 3008 | H40: 2000 | I40: =ROUND(E40/G40*1000,1) -> 7.9 | J40: =0.000001*G40*H40 -> 6.016
B41: D40X | D41: CCD | E41: 23.7 | F41: 15.6 | G41: 3872 | H41: 2592 | I41: =ROUND(E41/G41*1000,1) -> 6.1 | J41: =0.000001*G41*H41 -> 10.036224
B42: D3000 | D42: CCD | E42: 23.6 | F42: 15.8 | G42: 3872 | H42: 2592 | I42: =ROUND(E42/G42*1000,1) -> 6.1 | J42: =0.000001*G42*H42 -> 10.036224
B43: D3100 | D43: CMOS | E43: 23.1 | F43: 15.4 | G43: 4608 | H43: 3072 | I43: =ROUND(E43/G43*1000,1) -> 5 | J43: =0.000001*G43*H43 -> 14.155776
B44: D50 | D44: CCD | E44: 23.7 | F44: 15.6 | G44: 3008 | H44: 2000 | I44: =ROUND(E44/G44*1000,1) -> 7.9
B45: D60 | D45: CCD | E45: 23.6 | F45: 15.8 | G45: 3872 | H45: 2592 | I45: =ROUND(E45/G45*1000,1) -> 6.1
B46: D5000 | D46: CMOS | E46: 23.6 | F46: 15.8 | G46: 4288 | H46: 2848 | I46: =ROUND(E46/G46*1000,1) -> 5.5
B47: D5100 | D47: CMOS | E47: 23.6 | F47: 15.6 | G47: 4928 | H47: 3264 | I47: =ROUND(E47/G47*1000,1) -> 4.8
B48: D70 / D70s | D48: CCD | E48: 23.7 | F48: 15.6 | G48: 3008 | H48: 2000 | I48: =ROUND(E48/G48*1000,1) -> 7.9
B49: D80 | D49: CCD | E49: 23.6 | F49: 15.8 | G49: 3872 | H49: 2592 | I49: =ROUND(E49/G49*1000,1) -> 6.1
B50: D90 | D50: CMOS | E50: 23.6 | F50: 15.8 | G50: 4928 | H50: 3264 | I50: =ROUND(E50/G50*1000,1) -> 4.8
B51: D7000 | D51: CMOS | E51: 23.6 | F51: 15.6 | G51: 4928 | H51: 3264 | I51: =ROUND(E51/G51*1000,1) -> 4.8
...
