Workbook

Sheet Champ - Echantillonnage
C1: © Axel VINCENT AVEX2011 | D1: Calcul de champ et d'échantillonage AVEX
C2: En bleu : les champs à renseigner (liste déroulante ou valeurs à saisir)
C3: En rouge : les résultats
C5: Calcul du champ photo et de l'échantillonnage
C7: Tube optique | G7: Barlow - Réducteur (×) | H7: Longueur d'onde considérée | J7: Turbulence (") | K7: Imageur | P7: Champ ( ° ' " ) | S7: Taille d'un objet
C8: Marque | E8: Modèle | K8: Marque | M8: Modèle | P8: Largeur | Q8: Hauteur | R8: Diagonale | S8: ° | T8: ' | U8: " | V8: (pixels)
C9: ASA | E9: 8N-OK3 | G9: 1 | H9: Vert (550 nm) | J9: 2 | K9: QHY | M9: QHY183M/C | P9: =VLOOKUP(M9,Caméras!B2:R200,4,0)*180/PI()/24/VLOOKUP(E9,'Tubes optiques'!B2:E136,3,0)/G9 -> 0.044099182 | Q9: =VLOOKUP(M9,Caméras!B2:R200,5,0)*180/PI()/24/VLOOKUP(E9,'Tubes optiques'!B2:E136,3,0)/G9 -> 0.02937735 | R9: =(VLOOKUP(M9,Caméras!B2:R200,5,0)^2+VLOOKUP(M9,Caméras!B2:R200,4,0)^2)^0.5*180/PI()/24/VLOOKUP(E9,'Tubes optiques'!B2:E136,3,0)/G9 -> 0.052988362 | S9: 0 | T9: 10 | U9: 0 | V9: =($S9*3600+$T9*60+$U9)/P14 -> 872.68496
C11: Diamètre | E11: =ROUND(VLOOKUP(E9,'Tubes optiques'!B2:E136,2,0),1)&" mm" -> 200 mm | K11: Capteur | M11: =IF(VLOOKUP(M9,Caméras!B2:R200,2,0)=0,"---",VLOOKUP(M9,Caméras!B2:R200,2,0)) -> IMX183 (BSI)
C12: Focale | E12: =ROUND(VLOOKUP(E9,'Tubes optiques'!B2:E136,3,0),0)&" mm" -> 720 mm | G12: =IF(G9=1," ",ROUND(G9*VLOOKUP(E9,'Tubes optiques'!B2:E136,3,0),0)&" mm") | K12: Type | M12: =VLOOKUP(M9,Caméras!B2:R200,3,0) -> CMOS | P12: Ech. ("/pixel) | Q12: Echantillonnage idéal | S12: Echantillonnage actuel
C13: F/D | E13: =VLOOKUP(E9,'Tubes optiques'!B2:E136,4,0) -> 3.6 | G13: =IF(G9=1," ",ROUND(G9*VLOOKUP(E9,'Tubes optiques'!B2:E136,4,0),1)) | K13: Résolution | M13: =VLOOKUP(M9,Caméras!B2:R200,6,0)&"×"&VLOOKUP(M9,Caméras!B2:R200,7,0) -> 5544×3694 | W13: =VLOOKUP(M9,Caméras!B2:R103,8,0)*206.26/(MAX(VLOOKUP(E9,'Tubes optiques'!B2:F136,5,0),J9)/2) -> #N/A
C14: Résolution | E14: =IF(VLOOKUP(E9,'Tubes optiques'!B2:F136,5,0)<1,ROUND(VLOOKUP(E9,'Tubes optiques'!B2:F136,5,0),2),IF(VLOOKUP(E9,'Tubes optiques'!B2:F136,5,0)<10,ROUND(VLOOKUP(E9,'Tubes optiques'!B2:F136,5,0),1),ROUND(VLOOKUP(E9,'Tubes optiques'!B2:F136,5,0),0)))&"''" -> 0,69'' | K14: Photosites | M14: =VLOOKUP(M9,Caméras!B2:R200,8,0)&" µm" -> 2,4 µm | P14: =VLOOKUP(M9,Caméras!B2:R200,8,0)*206.26/VLOOKUP(E9,'Tubes optiques'!B2:E136,3,0)/G9 -> 0.68753333 | Q14: =ROUND(VLOOKUP(M9,Caméras!B2:R200,8,0)*206.26/(MAX(VLOOKUP(E9,'Tubes optiques'!B2:F136,5,0),J9)/2),0)&" mm < Focale < "&ROUND(VLOOKUP(M9,Caméras!B2:R200,8,0)*206.26/(MAX(VLOOKUP(E9,'Tubes optiques'!B2:F136,5,0),J9)/3),0)&" mm" -> 495 mm < Focale < 743 mm | S14: =IF(ROUND(G9*VLOOKUP(E9,'Tubes optiques'!B2:E135,3,0),0)<ROUND(VLOOKUP(M9,Caméras!B2:R200,8,0)*206.26/(MAX(VLOOKUP(E9,'Tubes optiques'!B2:F135,5,0),J9)/2),0),"Sous-échantillonnage",IF(ROUND(G9*VLOOKUP(E9,'Tubes optiques'!B2:E135,3,0),0)>ROUND(VLOOKUP(M9,Caméras!B2:R200,8,0)*206.26/(MAX(VLOOKUP(E9,'Tubes optiques'!B2:F135,5,0),J9)/3),0),"Sur-échantillonnage","Echantillonnage correct")) -> Echantillonnage correct | W14: =G9*VLOOKUP(E9,'Tubes optiques'!B2:E136,3,0) -> 720
K15: L (mm) | M15: =ROUND(VLOOKUP(M9,Caméras!B2:R200,4,0),2)&" mm" -> 13,3 mm | Q15: =ROUND(VLOOKUP(M9,Caméras!B2:R200,8,0)*206.26/(MAX(VLOOKUP(E9,'Tubes optiques'!B2:F136,5,0),J9)/2)/VLOOKUP(E9,'Tubes optiques'!B2:E136,2,0),0)&" < F/D < "&ROUND(VLOOKUP(M9,Caméras!B2:R200,8,0)*206.26/(MAX(VLOOKUP(E9,'Tubes optiques'!B2:F136,5,0),J9)/3)/VLOOKUP(E9,'Tubes optiques'!B2:E136,2,0),0) -> 2 < F/D < 4 | W15: =VLOOKUP(M9,Caméras!B2:R103,8,0)*206.26/(MAX(VLOOKUP(E9,'Tubes optiques'!B2:F136,5,0),J9)/3) -> #N/A
K16: H (mm) | M16: =ROUND(VLOOKUP(M9,Caméras!B2:R200,5,0),2)&" mm" -> 8,86 mm
K17: Mégapixels | M17: =VLOOKUP(M9,Caméras!B2:R200,9,0) -> 20
K18: Cadence | M18: =IF(VLOOKUP(M9,Caméras!B2:R200,10,0)=0,"---",VLOOKUP(M9,Caméras!B2:R200,10,0)&" im/s") -> 15FPS@20.48 million pixels im/s
K19: Dynamique réelle | M19: =IF(VLOOKUP(M9,Caméras!B2:R200,11,0)=0,"---",VLOOKUP(M9,Caméras!B2:R200,11,0)) -> ---
C20: Tube optique, capteur et longueur d'onde non référencés | K20: Numérisation | M20: =IF(VLOOKUP(M9,Caméras!B2:R200,12,0)=0,"---",VLOOKUP(M9,Caméras!B2:R200,12,0)&" bits") -> 8bit/16bit bits
K21: Bruit de lecture | M21: =IF(VLOOKUP(M9,Caméras!B2:R200,13,0)=0,"---",VLOOKUP(M9,Caméras!B2:R200,13,0)) -> 2.7e@low gain 1.0e@high gain
K22: Courant d'obscurité | M22: =IF(VLOOKUP(M9,Caméras!B2:R200,14,0)=0,"---",VLOOKUP(M9,Caméras!B2:R200,14,0)) -> 0.0024e/p/s @ -15C
C23: Tube optique | E23: Capteur | H23: λ (nm) | K23: Temps de chargement | M23: =IF(VLOOKUP(M9,Caméras!B2:R200,15,0)=0,"---",VLOOKUP(M9,Caméras!B2:R200,15,0)) -> ---
C24: Ø (mm) | D24: F (mm) | E24: L (mm) | F24: H (mm) | G24: Pixels (µm) | K24: Capacité des pixels | M24: =IF(VLOOKUP(M9,Caméras!B2:R200,16,0)=0,"---",VLOOKUP(M9,Caméras!B2:R200,16,0)) -> ---
C25: 80 | D25: 600 | K25: Refroidissement | M25: =IF(VLOOKUP(M9,Caméras!B2:R200,17,0)=0,"---",VLOOKUP(M9,Caméras!B2:R200,17,0)) -> ---
C30: Mode d'emploi :
C32: 1) Sélectionner Marque et Modèle de tube optique et d'imageur au moyen des menus déroulants (cliquer dans les cases idoines pour que les ascenceurs apparaissent).
C33: 2) Dans la case "Barlow - Réducteur", saisir au clavier la valeur du coefficient qui va bien (mettre 1 si aucun complément optique n'est utilisé).
C34: 3) Sélectionner la longueur d'onde de la lumière utilisée.
C35: 3) La valeur généralement prise par défaut est le vert à 550 nm. En cas d'utilisation de filtres colorés, sélectionner la longueur d'onde idoine. L'utilisateur peut aussi choisir une longueur d'ondeUn valeur utilisateur peut être utilisée (rensieigner la case D29)
C36: 3) La résolution de l'instrument et l'amplitude de la turbulence dépendent de ce paramètre.
C37: 4) Dans la case "Turbulence", saisir la valeur correspondant à l'amplitude de la turbulence intégrée sur la durée de la pose (dépend du lieu et des conditions atmosphérique du moment) :
D38: Imagerie planétaire : amplitude typiquement comprise entre 0,5" et 2" sur un temps de pose généralement inférieur à 0,1 s (cadence > 10 images/s).
D39: Imagerie du ciel profond : amplitude typiquement comprise entre 2" et 4" sur des poses de quelques minutes.
C41: Le calcul de l'échantillonnage idéal est fait en appliquant le théorème d'échantillonnage de Nyquist-Shannon à partir du paramètre limitant (résolution instrumentale ou turbulence).
C42: Le calcul de l'échantillonnage apparaît en vert s'il est correct ou en rouge dans le cas contraire, et se fait à partir de la focale résultante de l'instrument (prend en compte la valeur du champ "Barlow - Réducteur").
C44: Si l'instrument souhaité n'apparaît pas dans les menus déroulants, alors sélectionner "Autre_Optique" + "Valeurs utilisateur" et saisir les valeurs idoine dans la section "Tube optique, capteur et longueur d'onde non référencés".
C45: Si l'imageur souhaité n'apparaît pas dans les menus déroulants, alors sélectionner "Autre_Imageur" + "Valeurs utilisateur" et saisir les valeurs idoine dans la section "Tube optique, capteur et longueur d'onde non référencés".
C46: Si la longueur d'onde souhaitée n'apparaît pas dans le menu déroulant, alors sélectionner "Valeur utilisateur" et saisir la valeur idoine dans la section "Tube optique, capteur et longueur d'onde non référencés".
C48: Il est aussi possible de voir quelle taille (en pixels) fera l'objet imagé sur le capteur en renseignant les cellules "Taille de l'objet" en bleu.

Sheet Tubes optiques
A1: Marque | B1: Modèle | C1: Ø (mm) | D1: F (mm) | E1: F/D | F1: ="R ('') λ = "&VLOOKUP('Champ - Echantillonnage'!$H$9,H2:I12,2,0)&" nm" -> R ('') λ = 550 nm | H1: Choix couleur | I1: λ (nm) | K1: Liste des marques
A2: ASA | B2: 8N-OK3 | C2: 200 | D2: 720 | E2: =ROUND(D2/C2,1) -> 3.6 | F2: =0.25164*VLOOKUP('Champ - Echantillonnage'!$H$9,'Tubes optiques'!$H$2:$I$12,2,0)/C2 -> 0.69201 | H2: ="Infrarouge ("&I2&" nm)" -> Infrarouge (800 nm) | I2: 800 | K2: ASA
B3: 10N-OK3 | C3: 250 | D3: 900 | E3: =ROUND(D3/C3,1) -> 3.6 | F3: =0.25164*VLOOKUP('Champ - Echantillonnage'!$H$9,'Tubes optiques'!$H$2:$I$12,2,0)/C3 -> 0.553608 | H3: ="Rouge ("&I3&" nm)" -> Rouge (650 nm) | I3: 650 | K3: Astrophysics
B4: 12N-OK3 | C4: 300 | D4: 1080 | E4: =ROUND(D4/C4,1) -> 3.6 | F4: =0.25164*VLOOKUP('Champ - Echantillonnage'!$H$9,'Tubes optiques'!$H$2:$I$12,2,0)/C4 -> 0.46134 | H4: ="Vert ("&I4&" nm)" -> Vert (550 nm) | I4: 550 | K4: Astro_Tech
B5: 16N-OK3 | C5: 400 | D5: 1440 | E5: =ROUND(D5/C5,1) -> 3.6 | F5: =0.25164*VLOOKUP('Champ - Echantillonnage'!$H$9,'Tubes optiques'!$H$2:$I$12,2,0)/C5 -> 0.346005 | H5: ="Bleu ("&I5&" nm)" -> Bleu (450 nm) | I5: 450 | K5: Canon_Objectifs
B6: 20N-OK3 | C6: 500 | D6: 1900 | E6: =ROUND(D6/C6,1) -> 3.8 | F6: =0.25164*VLOOKUP('Champ - Echantillonnage'!$H$9,'Tubes optiques'!$H$2:$I$12,2,0)/C6 -> 0.276804 | H6: ="Ultraviolet ("&I6&" nm)" -> Ultraviolet (300 nm) | I6: 300 | K6: Celestron
A7: Astrophysics | B7: 160-EDF | C7: 160 | D7: 1200 | E7: =ROUND(D7/C7,1) -> 7.5 | F7: =0.25164*VLOOKUP('Champ - Echantillonnage'!$H$9,'Tubes optiques'!$H$2:$I$12,2,0)/C7 -> 0.8650125 | H7: ="Hα ("&I7&" nm)" -> Hα (656,3 nm) | I7: 656.3 | K7: GSO
B8: 140-EDF | C8: 140 | D8: 1050 | E8: =ROUND(D8/C8,1) -> 7.5 | F8: =0.25164*VLOOKUP('Champ - Echantillonnage'!$H$9,'Tubes optiques'!$H$2:$I$12,2,0)/C8 -> 0.98858571 | H8: ="Hβ ("&I8&" nm)" -> Hβ (486,1 nm) | I8: 486.1 | K8: Meade
B9: 130-EDF "Gran Turismo" | C9: 130 | D9: 819 | E9: =ROUND(D9/C9,1) -> 6.3 | F9: =0.25164*VLOOKUP('Champ - Echantillonnage'!$H$9,'Tubes optiques'!$H$2:$I$12,2,0)/C9 -> 1.0646308 | H9: ="Hγ ("&I9&" nm)" -> Hγ (434,1 nm) | I9: 434.1 | K9: Officina_Stellare
B10: 155-EDT | C10: 155 | D10: 1395 | E10: =ROUND(D10/C10,1) -> 9 | F10: =0.25164*VLOOKUP('Champ - Echantillonnage'!$H$9,'Tubes optiques'!$H$2:$I$12,2,0)/C10 -> 0.89291613 | H10: ="OIII ("&I10&" nm)" -> OIII (500,7 nm) | I10: 500.7 | K10: Orion
B11: 155-EDF | C11: 155 | D11: 1085 | E11: =ROUND(D11/C11,1) -> 7 | F11: =0.25164*VLOOKUP('Champ - Echantillonnage'!$H$9,'Tubes optiques'!$H$2:$I$12,2,0)/C11 -> 0.89291613 | H11: ="SII ("&I11&" nm)" -> SII (671,8 nm) | I11: 671.8 | K11: Skywatcher
B12: 130-EDFS | C12: 130 | D12: 780 | E12: =ROUND(D12/C12,1) -> 6 | F12: =0.25164*VLOOKUP('Champ - Echantillonnage'!$H$9,'Tubes optiques'!$H$2:$I$12,2,0)/C12 -> 1.0646308 | H12: Valeur utilisateur | I12: ='Champ - Echantillonnage'!H25 -> 0 | K12: Takahashi
B13: 130-EDT | C13: 130 | D13: 1040 | E13: =ROUND(D13/C13,1) -> 8 | F13: =0.25164*VLOOKUP('Champ - Echantillonnage'!$H$9,'Tubes optiques'!$H$2:$I$12,2,0)/C13 -> 1.0646308 | K13: TEC
B14: 105-EDFS "Traveller" | C14: 105 | D14: 819 | E14: =ROUND(D14/C14,1) -> 7.8 | F14: =0.25164*VLOOKUP('Champ - Echantillonnage'!$H$9,'Tubes optiques'!$H$2:$I$12,2,0)/C14 -> 1.3181143 | K14: Televue
B15: Riccardi-Honders-305mm | C15: 305 | D15: 1159 | E15: =ROUND(D15/C15,1) -> 3.8 | F15: =0.25164*VLOOKUP('Champ - Echantillonnage'!$H$9,'Tubes optiques'!$H$2:$I$12,2,0)/C15 -> 0.45377705 | K15: TMB
A16: Atro-Tech | B16: AT65EDQ | C16: 65 | D16: 420 | E16: =ROUND(D16/C16,1) -> 6.5 | F16: =0.25164*VLOOKUP('Champ - Echantillonnage'!$H$9,'Tubes optiques'!$H$2:$I$12,2,0)/C16 -> 2.1292615 | K16: Vixen
B17: AT72ED | C17: 72 | D17: 430 | E17: =ROUND(D17/C17,1) -> 6 | F17: =0.25164*VLOOKUP('Champ - Echantillonnage'!$H$9,'Tubes optiques'!$H$2:$I$12,2,0)/C17 -> 1.92225 | K17: William_Optics
B18: AT80LE | C18: 80 | D18: 480 | E18: =ROUND(D18/C18,1) -> 6 | F18: =0.25164*VLOOKUP('Champ - Echantillonnage'!$H$9,'Tubes optiques'!$H$2:$I$12,2,0)/C18 -> 1.730025 | K18: Autre_Optique
B19: AT90EDT | C19: 90 | D19: 600 | E19: =ROUND(D19/C19,1) -> 6.7 | F19: =0.25164*VLOOKUP('Champ - Echantillonnage'!$H$9,'Tubes optiques'!$H$2:$I$12,2,0)/C19 -> 1.5378
B20: AT106 | C20: 106 | D20: 690 | E20: =ROUND(D20/C20,1) -> 6.5 | F20: =0.25164*VLOOKUP('Champ - Echantillonnage'!$H$9,'Tubes optiques'!$H$2:$I$12,2,0)/C20 -> 1.3056792
B21: AT111EDT | C21: 111 | D21: 777 | E21: =ROUND(D21/C21,1) -> 7 | F21: =0.25164*VLOOKUP('Champ - Echantillonnage'!$H$9,'Tubes optiques'!$H$2:$I$12,2,0)/C21 -> 1.2468649
B22: AT130 | C22: 130 | D22: 780 | E22: =ROUND(D22/C22,1) -> 6 | F22: =0.25164*VLOOKUP('Champ - Echantillonnage'!$H$9,'Tubes optiques'!$H$2:$I$12,2,0)/C22 -> 1.0646308
B23: RC 6" | C23: 152 | D23: 1370 | E23: =ROUND(D23/C23,1) -> 9 | F23: =0.25164*VLOOKUP('Champ - Echantillonnage'!$H$9,'Tubes optiques'!$H$2:$I$12,2,0)/C23 -> 0.91053947
B24: RC 8" | C24: 203 | D24: 1625 | E24: =ROUND(D24/C24,1) -> 8 | F24: =0.25164*VLOOKUP('Champ - Echantillonnage'!$H$9,'Tubes optiques'!$H$2:$I$12,2,0)/C24 -> 0.68178325
B25: RC 10" | C25: 250 | D25: 2000 | E25: =ROUND(D25/C25,1) -> 8 | F25: =0.25164*VLOOKUP('Champ - Echantillonnage'!$H$9,'Tubes optiques'!$H$2:$I$12,2,0)/C25 -> 0.553608
A26: Celestron | B26: ONYX 80ED | C26: 80 | D26: 500 | E26: =ROUND(D26/C26,1) -> 6.3 | F26: =0.25164*VLOOKUP('Champ - Echantillonnage'!$H$9,'Tubes optiques'!$H$2:$I$12,2,0)/C26 -> 1.730025
B27: C8 | C27: 203 | D27: 2032 | E27: =ROUND(D27/C27,1) -> 10 | F27: =0.25164*VLOOKUP('Champ - Echantillonnage'!$H$9,'Tubes optiques'!$H$2:$I$12,2,0)/C27 -> 0.68178325
B28: C9 | C28: 235 | D28: 2350 | E28: =ROUND(D28/C28,1) -> 10 | F28: =0.25164*VLOOKUP('Champ - Echantillonnage'!$H$9,'Tubes optiques'!$H$2:$I$12,2,0)/C28 -> 0.58894468
B29: C11 | C29: 280 | D29: 2800 | E29: =ROUND(D29/C29,1) -> 10 | F29: =0.25164*VLOOKUP('Champ - Echantillonnage'!$H$9,'Tubes optiques'!$H$2:$I$12,2,0)/C29 -> 0.49429286
B30: C14 | C30: 355 | D30: 3910 | E30: =ROUND(D30/C30,1) -> 11 | F30: =0.25164*VLOOKUP('Champ - Echantillonnage'!$H$9,'Tubes optiques'!$H$2:$I$12,2,0)/C30 -> 0.38986479
A31: GSO | B31: RC 6" | C31: 152 | D31: 1370 | E31: =ROUND(D31/C31,1) -> 9 | F31: =0.25164*VLOOKUP('Champ - Echantillonnage'!$H$9,'Tubes optiques'!$H$2:$I$12,2,0)/C31 -> 0.91053947
B32: RC 8" | C32: 203 | D32: 1624 | E32: =ROUND(D32/C32,1) -> 8 | F32: =0.25164*VLOOKUP('Champ - Echantillonnage'!$H$9,'Tubes optiques'!$H$2:$I$12,2,0)/C32 -> 0.68178325
B33: RC 10" | C33: 254 | D33: 2000 | E33: =ROUND(D33/C33,1) -> 7.9 | F33: =0.25164*VLOOKUP('Champ - Echantillonnage'!$H$9,'Tubes optiques'!$H$2:$I$12,2,0)/C33 -> 0.54488976
B34: RC 12" | C34: 305 | D34: 2432 | E34: =ROUND(D34/C34,1) -> 8 | F34: =0.25164*VLOOKUP('Champ - Echantillonnage'!$H$9,'Tubes optiques'!$H$2:$I$12,2,0)/C34 -> 0.45377705
A35: Meade | B35: LX200-8" | C35: 203 | D35: 2000 | E35: =ROUND(D35/C35,1) -> 9.9 | F35: =0.25164*VLOOKUP('Champ - Echantillonnage'!$H$9,'Tubes optiques'!$H$2:$I$12,2,0)/C35 -> 0.68178325
B36: LX200-10" | C36: 254 | D36: 2500 | E36: =ROUND(D36/C36,1) -> 9.8 | F36: =0.25164*VLOOKUP('Champ - Echantillonnage'!$H$9,'Tubes optiques'!$H$2:$I$12,2,0)/C36 -> 0.54488976
B37: LX200-12" | C37: 305 | D37: 3048 | E37: =ROUND(D37/C37,1) -> 10 | F37: =0.25164*VLOOKUP('Champ - Echantillonnage'!$H$9,'Tubes optiques'!$H$2:$I$12,2,0)/C37 -> 0.45377705
B38: LX200-14" | C38: 355 | D38: 3556 | E38: =ROUND(D38/C38,1) -> 10 | F38: =0.25164*VLOOKUP('Champ - Echantillonnage'!$H$9,'Tubes optiques'!$H$2:$I$12,2,0)/C38 -> 0.38986479
B39: LX200-16" | C39: 406 | D39: 4064 | E39: =ROUND(D39/C39,1) -> 10 | F39: =0.25164*VLOOKUP('Champ - Echantillonnage'!$H$9,'Tubes optiques'!$H$2:$I$12,2,0)/C39 -> 0.34089163
B40: LX90-8" | C40: 203 | D40: 2034 | E40: =ROUND(D40/C40,1) -> 10 | F40: =0.25164*VLOOKUP('Champ - Echantillonnage'!$H$9,'Tubes optiques'!$H$2:$I$12,2,0)/C40 -> 0.68178325
B41: LX90-10" | C41: 254 | D41: 2540 | E41: =ROUND(D41/C41,1) -> 10 | F41: =0.25164*VLOOKUP('Champ - Echantillonnage'!$H$9,'Tubes optiques'!$H$2:$I$12,2,0)/C41 -> 0.54488976
B42: LX90-12" | C42: 305 | D42: 3048 | E42: =ROUND(D42/C42,1) -> 10 | F42: =0.25164*VLOOKUP('Champ - Echantillonnage'!$H$9,'Tubes optiques'!$H$2:$I$12,2,0)/C42 -> 0.45377705
A43: Officina Stellare | B43: HIPER APO 80 | C43: 80 | D43: 480 | E43: =ROUND(D43/C43,1) -> 6 | F43: =0.25164*VLOOKUP('Champ - Echantillonnage'!$H$9,'Tubes optiques'!$H$2:$I$12,2,0)/C43 -> 1.730025
B44: HIPER APO 105 | C44: 105 | D44: 650 | E44: =ROUND(D44/C44,1) -> 6.2 | F44: =0.25164*VLOOKUP('Champ - Echantillonnage'!$H$9,'Tubes optiques'!$H$2:$I$12,2,0)/C44 -> 1.3181143
B45: HIPER APO 115 | C45: 115 | D45: 805 | E45: =ROUND(D45/C45,1) -> 7 | F45: =0.25164*VLOOKUP('Champ - Echantillonnage'!$H$9,'Tubes optiques'!$H$2:$I$12,2,0)/C45 -> 1.2034957
B46: HIPER APO 130 | C46: 130 | D46: 780 | E46: =ROUND(D46/C46,1) -> 6 | F46: =0.25164*VLOOKUP('Champ - Echantillonnage'!$H$9,'Tubes optiques'!$H$2:$I$12,2,0)/C46 -> 1.0646308
B47: HIPER APO 152 | C47: 152 | D47: 1200 | E47: =ROUND(D47/C47,1) -> 7.9 | F47: =0.25164*VLOOKUP('Champ - Echantillonnage'!$H$9,'Tubes optiques'!$H$2:$I$12,2,0)/C47 -> 0.91053947
B48: HIPER APO 180 | C48: 180 | D48: 1260 | E48: =ROUND(D48/C48,1) -> 7 | F48: =0.25164*VLOOKUP('Champ - Echantillonnage'!$H$9,'Tubes optiques'!$H$2:$I$12,2,0)/C48 -> 0.7689
B49: ULTRA CRC 320 ST | C49: 312 | D49: 1680 | E49: =ROUND(D49/C49,1) -> 5.4 | F49: =0.25164*VLOOKUP('Champ - Echantillonnage'!$H$9,'Tubes optiques'!$H$2:$I$12,2,0)/C49 -> 0.44359615
B50: VELOCE RH 200 | C50: 200 | D50: 600 | E50: =ROUND(D50/C50,1) -> 3 | F50: =0.25164*VLOOKUP('Champ - Echantillonnage'!$H$9,'Tubes optiques'!$H$2:$I$12,2,0)/C50 -> 0.69201
B51: VELOCE RH 300 | C51: 300 | D51: 900 | E51: =ROUND(D51/C51,1) -> 3 | F51: =0.25164*VLOOKUP('Champ - Echantillonnage'!$H$9,'Tubes optiques'!$H$2:$I$12,2,0)/C51 -> 0.46134
B52: SUPREMO 250 | C52: 250 | D52: 3125 | E52: =ROUND(D52/C52,1) -> 12.5 | F52: =0.25164*VLOOKUP('Champ - Echantillonnage'!$H$9,'Tubes optiques'!$H$2:$I$12,2,0)/C52 -> 0.553608
B53: PRO RC 250 | C53: 250 | D53: 2000 | E53: =ROUND(D53/C53,1) -> 8 | F53: =0.25164*VLOOKUP('Champ - Echantillonnage'!$H$9,'Tubes optiques'!$H$2:$I$12,2,0)/C53 -> 0.553608
B54: PRO RC 320 ST | C54: 320 | D54: 2560 | E54: =ROUND(D54/C54,1) -> 8 | F54: =0.25164*VLOOKUP('Champ - Echantillonnage'!$H$9,'Tubes optiques'!$H$2:$I$12,2,0)/C54 -> 0.43250625
B55: PRO RC 400 LT/ST | C55: 360 | D55: 2880 | E55: =ROUND(D55/C55,1) -> 8 | F55: =0.25164*VLOOKUP('Champ - Echantillonnage'!$H$9,'Tubes optiques'!$H$2:$I$12,2,0)/C55 -> 0.38445
... B58: PRO RC 360 LT/ST | C58: 600 | D58: 4800 | E58: =ROUND(D58/C58,1) -> 8 | F58: =0.25164*VLOOKUP('Champ - Echantillonnage'!$H$9,'Tubes optiques'!$H$2:$I$12,2,0)/C58 -> 0.23067
A59: Orion | B59: 80-ED | C59: 80 | D59: 600 | E59: =ROUND(D59/C59,1) -> 7.5 | F59: =0.25164*VLOOKUP('Champ - Echantillonnage'!$H$9,'Tubes optiques'!$H$2:$I$12,2,0)/C59 -> 1.730025
B60: ED-80T | C60: 80 | D60: 480 | E60: =ROUND(D60/C60,1) -> 6 | F60: =0.25164*VLOOKUP('Champ - Echantillonnage'!$H$9,'Tubes optiques'!$H$2:$I$12,2,0)/C60 -> 1.730025
B61: 100-ED | C61: 100 | D61: 900 | E61: =ROUND(D61/C61,1) -> 9 | F61: =0.25164*VLOOKUP('Champ - Echantillonnage'!$H$9,'Tubes optiques'!$H$2:$I$12,2,0)/C61 -> 1.38402
B62: ED-102T | C62: 102 | D62: 714 | E62: =ROUND(D62/C62,1) -> 7 | F62: =0.25164*VLOOKUP('Champ - Echantillonnage'!$H$9,'Tubes optiques'!$H$2:$I$12,2,0)/C62 -> 1.3568824
B63: 10" F/3.9 | C63: 254 | D63: 1000 | E63: =ROUND(D63/C63,1) -> 3.9 | F63: =0.25164*VLOOKUP('Champ - Echantillonnage'!$H$9,'Tubes optiques'!$H$2:$I$12,2,0)/C63 -> 0.54488976
B64: Mak-90 | C64: 90 | D64: 1250 | E64: =ROUND(D64/C64,1) -> 13.9 | F64: =0.25164*VLOOKUP('Champ - Echantillonnage'!$H$9,'Tubes optiques'!$H$2:$I$12,2,0)/C64 -> 1.5378
B65: Mak-102 | C65: 102 | D65: 1300 | E65: =ROUND(D65/C65,1) -> 12.7 | F65: =0.25164*VLOOKUP('Champ - Echantillonnage'!$H$9,'Tubes optiques'!$H$2:$I$12,2,0)/C65 -> 1.3568824
B66: Mak-127 | C66: 127 | D66: 1540 | E66: =ROUND(D66/C66,1) -> 12.1 | F66: =0.25164*VLOOKUP('Champ - Echantillonnage'!$H$9,'Tubes optiques'!$H$2:$I$12,2,0)/C66 -> 1.0897795
B67: Mak-150 | C67: 150 | D67: 1800 | E67: =ROUND(D67/C67,1) -> 12 | F67: =0.25164*VLOOKUP('Champ - Echantillonnage'!$H$9,'Tubes optiques'!$H$2:$I$12,2,0)/C67 -> 0.92268
A68: Skywatcher | B68: EVO72ED | C68: 72 | D68: 420 | E68: =ROUND(D68/C68,1) -> 5.8 | F68: =0.25164*VLOOKUP('Champ - Echantillonnage'!$H$9,'Tubes optiques'!$H$2:$I$12,2,0)/C68 -> 1.92225
B69: EVO80ED | C69: 80 | D69: 600 | E69: =ROUND(D69/C69,1) -> 7.5 | F69: =0.25164*VLOOKUP('Champ - Echantillonnage'!$H$9,'Tubes optiques'!$H$2:$I$12,2,0)/C69 -> 1.730025
B70: EVO120ED | C70: 120 | D70: 900 | E70: =ROUND(D70/C70,1) -> 7.5 | F70: =0.25164*VLOOKUP('Champ - Echantillonnage'!$H$9,'Tubes optiques'!$H$2:$I$12,2,0)/C70 -> 1.15335
A71: Takahashi | B71: FS-60 | C71: 60 | D71: 355 | E71: =ROUND(D71/C71,1) -> 5.9 | F71: =0.25164*VLOOKUP('Champ - Echantillonnage'!$H$9,'Tubes optiques'!$H$2:$I$12,2,0)/C71 -> 2.3067
B72: Sky 90 | C72: 90 | D72: 500 | E72: =ROUND(D72/C72,1) -> 5.6 | F72: =0.25164*VLOOKUP('Champ - Echantillonnage'!$H$9,'Tubes optiques'!$H$2:$I$12,2,0)/C72 -> 1.5378
B73: FS-102 | C73: 102 | D73: 820 | E73: =ROUND(D73/C73,1) -> 8 | F73: =0.25164*VLOOKUP('Champ - Echantillonnage'!$H$9,'Tubes optiques'!$H$2:$I$12,2,0)/C73 -> 1.3568824
B74: FS-128 | C74: 128 | D74: 1040 | E74: =ROUND(D74/C74,1) -> 8.1 | F74: =0.25164*VLOOKUP('Champ - Echantillonnage'!$H$9,'Tubes optiques'!$H$2:$I$12,2,0)/C74 -> 1.0812656
B75: FS-152 | C75: 152 | D75: 1216 | E75: =ROUND(D75/C75,1) -> 8 | F75: =0.25164*VLOOKUP('Champ - Echantillonnage'!$H$9,'Tubes optiques'!$H$2:$I$12,2,0)/C75 -> 0.91053947
B76: FSQ-85 | C76: 85 | D76: 450 | E76: =ROUND(D76/C76,1) -> 5.3 | F76: =0.25164*VLOOKUP('Champ - Echantillonnage'!$H$9,'Tubes optiques'!$H$2:$I$12,2,0)/C76 -> 1.6282588
B77: FSQ-106 | C77: 106 | D77: 530 | E77: =ROUND(D77/C77,1) -> 5 | F77: =0.25164*VLOOKUP('Champ - Echantillonnage'!$H$9,'Tubes optiques'!$H$2:$I$12,2,0)/C77 -> 1.3056792
B78: TSA-102 | C78: 102 | D78: 816 | E78: =ROUND(D78/C78,1) -> 8 | F78: =0.25164*VLOOKUP('Champ - Echantillonnage'!$H$9,'Tubes optiques'!$H$2:$I$12,2,0)/C78 -> 1.3568824
B79: TSA-120 | C79: 120 | D79: 900 | E79: =ROUND(D79/C79,1) -> 7.5 | F79: =0.25164*VLOOKUP('Champ - Echantillonnage'!$H$9,'Tubes optiques'!$H$2:$I$12,2,0)/C79 -> 1.15335
B80: TOA-130 | C80: 130 | D80: 1000 | E80: =ROUND(D80/C80,1) -> 7.7 | F80: =0.25164*VLOOKUP('Champ - Echantillonnage'!$H$9,'Tubes optiques'!$H$2:$I$12,2,0)/C80 -> 1.0646308
B81: TOA-150 | C81: 150 | D81: 1100 | E81: =ROUND(D81/C81,1) -> 7.3 | F81: =0.25164*VLOOKUP('Champ - Echantillonnage'!$H$9,'Tubes optiques'!$H$2:$I$12,2,0)/C81 -> 0.92268
B82: ε-130 | C82: 130 | D82: 430 | E82: =ROUND(D82/C82,1) -> 3.3 | F82: =0.25164*VLOOKUP('Champ - Echantillonnage'!$H$9,'Tubes optiques'!$H$2:$I$12,2,0)/C82 -> 1.0646308
B83: ε-160 | C83: 160 | D83: 530 | E83: =ROUND(D83/C83,1) -> 3.3 | F83: =0.25164*VLOOKUP('Champ - Echantillonnage'!$H$9,'Tubes optiques'!$H$2:$I$12,2,0)/C83 -> 0.8650125
... B93: Mewlon 300 | C93: 300 | D93: 3572 | E93: =ROUND(D93/C93,1) -> 11.9 | F93: =0.25164*VLOOKUP('Champ - Echantillonnage'!$H$9,'Tubes optiques'!$H$2:$I$12,2,0)/C93 -> 0.46134
B94: BRC-250 | C94: 250 | E94: =ROUND(D94/C94,1) -> 0 | F94: =0.25164*VLOOKUP('Champ - Echantillonnage'!$H$9,'Tubes optiques'!$H$2:$I$12,2,0)/C94 -> 0.553608
B95: CN-212 | C95: 212 | E95: =ROUND(D95/C95,1) -> 0 | F95: =0.25164*VLOOKUP('Champ - Echantillonnage'!$H$9,'Tubes optiques'!$H$2:$I$12,2,0)/C95 -> 0.65283962
A96: TEC | B96: 140-ED | C96: 140 | D96: 980 | E96: =ROUND(D96/C96,1) -> 7 | F96: =0.25164*VLOOKUP('Champ - Echantillonnage'!$H$9,'Tubes optiques'!$H$2:$I$12,2,0)/C96 -> 0.98858571
B97: 160-ED | C97: 160 | D97: 1280 | E97: =ROUND(D97/C97,1) -> 8 | F97: =0.25164*VLOOKUP('Champ - Echantillonnage'!$H$9,'Tubes optiques'!$H$2:$I$12,2,0)/C97 -> 0.8650125
B98: 160-Fluorite | C98: 160 | D98: 1120 | E98: =ROUND(D98/C98,1) -> 7 | F98: =0.25164*VLOOKUP('Champ - Echantillonnage'!$H$9,'Tubes optiques'!$H$2:$I$12,2,0)/C98 -> 0.8650125
B99: 180-Fluorite | C99: 180 | D99: 1260 | E99: =ROUND(D99/C99,1) -> 7 | F99: =0.25164*VLOOKUP('Champ - Echantillonnage'!$H$9,'Tubes optiques'!$H$2:$I$12,2,0)/C99 -> 0.7689
A100: Televue | B100: TV 60 / TV 60is | C100: 60 | D100: 360 | E100: =ROUND(D100/C100,1) -> 6 | F100: =0.25164*VLOOKUP('Champ - Echantillonnage'!$H$9,'Tubes optiques'!$H$2:$I$12,2,0)/C100 -> 2.3067
B101: TV 76 | C101: 76 | D101: 480 | E101: =ROUND(D101/C101,1) -> 6.3 | F101: =0.25164*VLOOKUP('Champ - Echantillonnage'!$H$9,'Tubes optiques'!$H$2:$I$12,2,0)/C101 -> 1.8210789
B102: TV 85 | C102: 85 | D102: 600 | E102: =ROUND(D102/C102,1) -> 7.1 | F102: =0.25164*VLOOKUP('Champ - Echantillonnage'!$H$9,'Tubes optiques'!$H$2:$I$12,2,0)/C102 -> 1.6282588
B103: TV 102 / TV 102is | C103: 102 | D103: 880 | E103: =ROUND(D103/C103,1) -> 8.6 | F103: =0.25164*VLOOKUP('Champ - Echantillonnage'!$H$9,'Tubes optiques'!$H$2:$I$12,2,0)/C103 -> 1.3568824
B104: TV NP-101 / TV NP-101is | C104: 101 | D104: 540 | E104: =ROUND(D104/C104,1) -> 5.3 | F104: =0.25164*VLOOKUP('Champ - Echantillonnage'!$H$9,'Tubes optiques'!$H$2:$I$12,2,0)/C104 -> 1.3703168
B105: TV NP127is | C105: 127 | D105: 660 | E105: =ROUND(D105/C105,1) -> 5.2 | F105: =0.25164*VLOOKUP('Champ - Echantillonnage'!$H$9,'Tubes optiques'!$H$2:$I$12,2,0)/C105 -> 1.0897795
A106: TMB | B106: 80SS | C106: 80 | D106: 504 | E106: =ROUND(D106/C106,1) -> 6.3 | F106: =0.25164*VLOOKUP('Champ - Echantillonnage'!$H$9,'Tubes optiques'!$H$2:$I$12,2,0)/C106 -> 1.730025
B107: 92SS | C107: 92 | D107: 506 | E107: =ROUND(D107/C107,1) -> 5.5 | F107: =0.25164*VLOOKUP('Champ - Echantillonnage'!$H$9,'Tubes optiques'!$H$2:$I$12,2,0)/C107 -> 1.5043696
B108: 130SS | C108: 130 | D108: 910 | E108: =ROUND(D108/C108,1) -> 7 | F108: =0.25164*VLOOKUP('Champ - Echantillonnage'!$H$9,'Tubes optiques'!$H$2:$I$12,2,0)/C108 -> 1.0646308
A109: Vixen | B109: ED80Sf | C109: 80 | D109: 600 | E109: =ROUND(D109/C109,1) -> 7.5 | F109: =0.25164*VLOOKUP('Champ - Echantillonnage'!$H$9,'Tubes optiques'!$H$2:$I$12,2,0)/C109 -> 1.730025
B110: ED81SWT | C110: 81 | D110: 625 | E110: =ROUND(D110/C110,1) -> 7.7 | F110: =0.25164*VLOOKUP('Champ - Echantillonnage'!$H$9,'Tubes optiques'!$H$2:$I$12,2,0)/C110 -> 1.7086667
B111: ED100Sf | C111: 100 | D111: 880 | E111: =ROUND(D111/C111,1) -> 8.8 | F111: =0.25164*VLOOKUP('Champ - Echantillonnage'!$H$9,'Tubes optiques'!$H$2:$I$12,2,0)/C111 -> 1.38402
...

Sheet Caméras
A1: Marque | B1: Modèle | C1: Capteur | D1: Type | E1: Largeur (mm) | F1: Hauteur (mm) | G1: Largeur (pixels) | H1: Hauteur (pixels) | I1: Photosites (µm) | J1: Mégapixels | K1: Cadence (im/s) | L1: Dynamique | M1: Numérisation (bits) | N1: Bruit de lecture | O1: Courant d'obscurité à 0°C | P1: Temps de chargement d'une image | Q1: Capacité des pixels | R1: Refroidissement | T1: Liste des marques
A2: ATIK | B2: 314L | C2: Sony ICX285AL | D2: CCD | E2: =G2*I2*0.001 -> 8.9784 | F2: =H2*I2*0.001 -> 6.708 | G2: 1392 | H2: 1040 | I2: 6.45 | J2: =0.000001*G2*H2 -> 1.44768 | M2: 16 | N2: 4 e- rms | R2: ΔT - 25°C | T2: ATIK
B3: 320E | C3: Sony ICX274AL | D3: CCD | E3: =G3*I3*0.001 -> 7.128 | F3: =H3*I3*0.001 -> 5.368 | G3: 1620 | H3: 1220 | I3: 4.4 | J3: =0.000001*G3*H3 -> 1.9764 | M3: 16 | N3: 3 e- rms | R3: ΔT - 25°C | T3: Basler
B4: 383L+ | C4: Kodak KAF-8300 | D4: CCD | E4: =G4*I4*0.001 -> 17.9604 | F4: =H4*I4*0.001 -> 13.5216 | G4: 3326 | H4: 2504 | I4: 5.4 | J4: =0.000001*G4*H4 -> 8.328304 | M4: 16 | N4: 7 e- rms | R4: ΔT -40°C | T4: Canon
B5: 4000 | C5: Kodak KAI-4022 | D5: CCD | E5: =G5*I5*0.001 -> 15.1552 | F5: =H5*I5*0.001 -> 15.1552 | G5: 2048 | H5: 2048 | I5: 7.4 | J5: =0.000001*G5*H5 -> 4.194304 | M5: 16 | N5: 11 e- rms | O5: 0,01 e-/s à -20°C | Q5: 40000 e- | R5: ΔT -40°C | T5: Lumenera
B6: 460EX | C6: Sony ICX694/5 | D6: CCD | E6: =G6*I6*0.001 -> 12.48046 | F6: =H6*I6*0.001 -> 9.98346 | G6: 2749 | H6: 2199 | I6: 4.54 | J6: =0.000001*G6*H6 -> 6.045051 | M6: 16 | N6: 5 e-rms | O6: 0,0004 e/s à -10°C | Q6: 18000 | R6: ΔT -25°C | T6: Nikon
B7: 11000 | C7: Kodak KAI 11002 | D7: CCD | E7: =G7*I7*0.001 -> 36.072 | F7: =H7*I7*0.001 -> 24.048 | G7: 4008 | H7: 2672 | I7: 9 | J7: =0.000001*G7*H7 -> 10.709376 | M7: 16 | N7: 13 e- rms | O7: 0,03 e-/s à -20°C | Q7: 60000 e- | R7: ΔT -38°C | T7: QHY
B8: Titan | C8: Sony ICX424 | D8: CCD | E8: =G8*I8*0.001 -> 4.8766 | F8: =H8*I8*0.001 -> 3.6556 | G8: 659 | H8: 494 | I8: 7.4 | J8: =0.000001*G8*H8 -> 0.325546 | M8: 16 | N8: 7 e- rms | R8: ΔT - 20°C | T8: QSI
A9: Basler | B9: acA640-100gm | C9: Sony ICX618 | D9: CCD | E9: =G9*I9*0.001 -> 3.6904 | F9: =H9*I9*0.001 -> 2.7664 | G9: 659 | H9: 494 | I9: 5.6 | J9: =0.000001*G9*H9 -> 0.325546 | K9: 102 / 122 | L9: 10,6 bits | M9: 8 ou 12 | T9: SBIG
B10: acA1300-30gm | C10: Sony ICX445 | D10: CCD | E10: =G10*I10*0.001 -> 4.86 | F10: =H10*I10*0.001 -> 3.6225 | G10: 1296 | H10: 966 | I10: 3.75 | J10: =0.000001*G10*H10 -> 1.251936 | K10: 32 | L10: 9,5 bits | M10: 9 ou 12 | T10: Starlight_Xpress
B11: acA1600-20gm | C11: Sony ICX274 | D11: CCD | E11: =G11*I11*0.001 -> 7.1632 | F11: =H11*I11*0.001 -> 5.4384 | G11: 1628 | H11: 1236 | I11: 4.4 | J11: =0.000001*G11*H11 -> 2.012208 | K11: 17 | L11: 10,1 bits | M11: 10 ou 12 | T11: The_Imaging_Source
A12: Canon | B12: EOS 1000D | D12: CMOS | E12: 22.2 | F12: 14.8 | G12: 3888 | H12: 2592 | I12: =ROUND(E12/G12*1000,1) -> 5.7 | J12: =0.000001*G12*H12 -> 10.077696 | T12: ZWO
B13: EOS 1100D | D13: CMOS | E13: 22.2 | F13: 14.8 | G13: 4272 | H13: 2848 | I13: =ROUND(E13/G13*1000,1) -> 5.2 | J13: =0.000001*G13*H13 -> 12.166656
B14: EOS 300D | D14: CMOS | E14: 22.7 | F14: 15.1 | G14: 3072 | H14: 2048 | I14: =ROUND(E14/G14*1000,1) -> 7.4 | J14: =0.000001*G14*H14 -> 6.291456
B15: EOS 350D | D15: CMOS | E15: 22.2 | F15: 14.8 | G15: 3456 | H15: 2304 | I15: =ROUND(E15/G15*1000,1) -> 6.4 | J15: =0.000001*G15*H15 -> 7.962624
B16: EOS 400D | D16: CMOS | E16: 22.2 | F16: 14.8 | G16: 3888 | H16: 2592 | I16: =ROUND(E16/G16*1000,1) -> 5.7 | J16: =0.000001*G16*H16 -> 10.077696
B17: EOS 450D | D17: CMOS | E17: 22.2 | F17: 14.8 | G17: 4272 | H17: 2848 | I17: =ROUND(E17/G17*1000,1) -> 5.2 | J17: =0.000001*G17*H17 -> 12.166656
B18: EOS 500D | D18: CMOS | E18: 22.3 | F18: 14.9 | G18: 4752 | H18: 3168 | I18: =ROUND(E18/G18*1000,1) -> 4.7 | J18: =0.000001*G18*H18 -> 15.054336
B19: EOS 550D | D19: CMOS | E19: 22.3 | F19: 14.9 | G19: 5184 | H19: 3456 | I19: =ROUND(E19/G19*1000,1) -> 4.3 | J19: =0.000001*G19*H19 -> 17.915904
B20: EOS 600D | D20: CMOS | E20: 22.3 | F20: 14.9 | G20: 5184 | H20: 3456 | I20: =ROUND(E20/G20*1000,1) -> 4.3 | J20: =0.000001*G20*H20 -> 17.915904
B21: EOS 10D | D21: CMOS | E21: 22.7 | F21: 15.1 | G21: 3072 | H21: 2048 | I21: =ROUND(E21/G21*1000,1) -> 7.4 | J21: =0.000001*G21*H21 -> 6.291456
B22: EOS 20D | D22: CMOS | E22: 22.5 | F22: 15 | G22: 3504 | H22: 2336 | I22: =ROUND(E22/G22*1000,1) -> 6.4 | J22: =0.000001*G22*H22 -> 8.185344
B23: EOS 30D | D23: CMOS | E23: 22.5 | F23: 15 | G23: 3504 | H23: 2336 | I23: =ROUND(E23/G23*1000,1) -> 6.4 | J23: =0.000001*G23*H23 -> 8.185344
B24: EOS 40D | D24: CMOS | E24: 22.2 | F24: 14.8 | G24: 3888 | H24: 2592 | I24: =ROUND(E24/G24*1000,1) -> 5.7 | J24: =0.000001*G24*H24 -> 10.077696
... B36: EOS 1Ds MkIII | D36: CMOS | E36: 36 | F36: 24 | G36: 5616 | H36: 3744 | I36: =ROUND(E36/G36*1000,1) -> 6.4 | J36: =0.000001*G36*H36 -> 21.026304
A37: Lumenera | B37: SKYnyx 2,0 | C37: Sony ICX424 | D37: CCD | E37: =G37*I37*0.001 -> 4.736 | F37: =H37*I37*0.001 -> 3.552 | G37: 640 | H37: 480 | I37: 7.4 | J37: =0.000001*G37*H37 -> 0.3072 | K37: 60 | M37: 8 ou 12
B38: SKYnyx 2,1 | C38: Sony ICX205 | D38: CCD | E38: =G38*I38*0.001 -> 6.4728 | F38: =H38*I38*0.001 -> 4.836 | G38: 1392 | H38: 1040 | I38: 4.65 | J38: =0.000001*G38*H38 -> 1.44768 | K38: 15 | M38: 8 ou 12
B39: SKYnyx 2,2 | C39: Sony ICX274 | D39: CCD | E39: =G39*I39*0.001 -> 7.1104 | F39: =H39*I39*0.001 -> 5.4208 | G39: 1616 | H39: 1232 | I39: 4.4 | J39: =0.000001*G39*H39 -> 1.990912 | K39: 12 | M39: 8 ou 12
A40: Nikon | B40: D40 | D40: CCD | E40: 23.7 | F40: 15.6 | G40: 3008 | H40: 2000 | I40: =ROUND(E40/G40*1000,1) -> 7.9 | J40: =0.000001*G40*H40 -> 6.016
B41: D40X | D41: CCD | E41: 23.7 | F41: 15.6 | G41: 3872 | H41: 2592 | I41: =ROUND(E41/G41*1000,1) -> 6.1 | J41: =0.000001*G41*H41 -> 10.036224
B42: D3000 | D42: CCD | E42: 23.6 | F42: 15.8 | G42: 3872 | H42: 2592 | I42: =ROUND(E42/G42*1000,1) -> 6.1 | J42: =0.000001*G42*H42 -> 10.036224
B43: D3100 | D43: CMOS | E43: 23.1 | F43: 15.4 | G43: 4608 | H43: 3072 | I43: =ROUND(E43/G43*1000,1) -> 5 | J43: =0.000001*G43*H43 -> 14.155776
B44: D50 | D44: CCD | E44: 23.7 | F44: 15.6 | G44: 3008 | H44: 2000 | I44: =ROUND(E44/G44*1000,1) -> 7.9
B45: D60 | D45: CCD | E45: 23.6 | F45: 15.8 | G45: 3872 | H45: 2592 | I45: =ROUND(E45/G45*1000,1) -> 6.1
B46: D5000 | D46: CMOS | E46: 23.6 | F46: 15.8 | G46: 4288 | H46: 2848 | I46: =ROUND(E46/G46*1000,1) -> 5.5
B47: D5100 | D47: CMOS | E47: 23.6 | F47: 15.6 | G47: 4928 | H47: 3264 | I47: =ROUND(E47/G47*1000,1) -> 4.8
B48: D70 / D70s | D48: CCD | E48: 23.7 | F48: 15.6 | G48: 3008 | H48: 2000 | I48: =ROUND(E48/G48*1000,1) -> 7.9
B49: D80 | D49: CCD | E49: 23.6 | F49: 15.8 | G49: 3872 | H49: 2592 | I49: =ROUND(E49/G49*1000,1) -> 6.1
B50: D90 | D50: CMOS | E50: 23.6 | F50: 15.8 | G50: 4928 | H50: 3264 | I50: =ROUND(E50/G50*1000,1) -> 4.8
B51: D7000 | D51: CMOS | E51: 23.6 | F51: 15.6 | G51: 4928 | H51: 3264 | I51: =ROUND(E51/G51*1000,1) -> 4.8
B52: D100 | D52: CCD | E52: 23.7 | F52: 15.6 | G52: 3008 | H52: 2000 | I52: =ROUND(E52/G52*1000,1) -> 7.9
B53: D200 | D53: CCD | E53: 23.7 | F53: 15.6 | G53: 3872 | H53: 2592 | I53: =ROUND(E53/G53*1000,1) -> 6.1
B54: D300 / D300s | D54: CMOS | E54: 23.6 | F54: 15.8 | G54: 4288 | H54: 2848 | I54: =ROUND(E54/G54*1000,1) -> 5.5
B55: D700 | D55: CMOS | E55: 36 | F55: 23.9 | G55: 4256 | H55: 2832 | I55: =ROUND(E55/G55*1000,1) -> 8.5
... B60: D1x | D60: CCD | E60: 23.7 | F60: 15.6 | G60: 3008 | H60: 1960 | I60: =ROUND(E60/G60*1000,1) -> 7.9
B61: D2x / D2Xs | C61: Sony | D61: CMOS | E61: 23.7 | F61: 15.7 | G61: 4288 | H61: 2848 | I61: =ROUND(E61/G61*1000,1) -> 5.5
B62: D3X | D62: CMOS | E62: 35.9 | F62: 24 | G62: 6048 | H62: 4032 | I62: =ROUND(E62/G62*1000,1) -> 5.9
A63: QSI | B63: 583 | C63: Kodak KAF-8300 | D63: CCD | E63: =G63*I63*0.001 -> 17.9604 | F63: =H63*I63*0.001 -> 13.5216 | G63: 3326 | H63: 2504 | I63: 5.4 | J63: =0.000001*G63*H63 -> 8.328304 | L63: 70 dB | M63: 16 | N63: 8 e- | O63: 0,02 e-/s à -10°C | P63: < 21 s | Q63: 25500 e- | R63: ΔT - 38°C
B64: 540 | C64: Kodak KAI-4022 | D64: CCD | E64: =G64*I64*0.001 -> 15.1552 | F64: =H64*I64*0.001 -> 15.1552 | G64: 2048 | H64: 2048 | I64: 7.4 | J64: =0.000001*G64*H64 -> 4.194304 | L64: 74 dB | M64: 16 | N64: < 8 e- | O64: 0,1 e-/s à 0°C | P64: < 11 s | Q64: 40000 e- | R64: ΔT - 38°C
B65: 532 | C65: Kodak KAF-3200 | D65: CCD | E65: =G65*I65*0.001 -> 14.8512 | F65: =H65*I65*0.001 -> 10.0096 | G65: 2184 | H65: 1472 | I65: 6.8 | J65: =0.000001*G65*H65 -> 3.214848 | L65: 77 dB | M65: 16 | N65: 7 e- | O65: 0,5 e-/s à 0°C | P65: < 8 s | Q65: 55000 e- | R65: ΔT - 38°C
B66: 520 | C66: Kodak KAI-2020 | D66: CCD | E66: =G66*I66*0.001 -> 11.84 | F66: =H66*I66*0.001 -> 8.88 | G66: 1600 | H66: 1200 | I66: 7.4 | J66: =0.000001*G66*H66 -> 1.92 | L66: 74 dB | M66: 16 | N66: < 8 e- | O66: 0,1 e-/s à 0°C | P66: < 5 s | Q66: 45000 e- | R66: ΔT - 38°C
B67: 516 | C67: Kodak KAF-1603 | D67: CCD | E67: =G67*I67*0.001 -> 13.824 | F67: =H67*I67*0.001 -> 9.216 | G67: 1536 | H67: 1024 | I67: 9 | J67: =0.000001*G67*H67 -> 1.572864 | L67: 76 dB | M67: 16 | N67: 15 e- | O67: 1 e-/s à 0°C | P67: < 4 s | Q67: 100000 e- | R67: ΔT - 38°C
B68: 504 | C68: Kodak KAF-0402 | D68: CCD | E68: =G68*I68*0.001 -> 6.912 | F68: =H68*I68*0.001 -> 4.608 | G68: 768 | H68: 512 | I68: 9 | J68: =0.000001*G68*H68 -> 0.393216 | L68: 76 dB | M68: 16 | N68: 15 e- | O68: 1 e-/s à 0°C | P68: < 1 s | Q68: 100000 e- | R68: ΔT - 38°C
A69: SBIG | B69: ST-402 | C69: Kodak KAF-0402ME | D69: CCD | E69: =G69*I69*0.001 -> 6.885 | F69: =H69*I69*0.001 -> 4.59 | G69: 765 | H69: 510 | I69: 9 | J69: =0.000001*G69*H69 -> 0.39015 | M69: 16 | N69: 17 e- | O69: 1 e-/s à 0°C | P69: < 1 s | R69: ΔT -35°C
B70: ST-7 | C70: Kodak KAF-0402ME | D70: CCD | E70: =G70*I70*0.001 -> 6.885 | F70: =H70*I70*0.001 -> 4.59 | G70: 765 | H70: 510 | I70: 9 | J70: =0.000001*G70*H70 -> 0.39015 | M70: 16 | N70: 15e- | O70: 1 e-/s à 0°C | P70: 1 s. | R70: ΔT -35°C
B71: ST-8 | C71: Kodak KAF-1603ME | D71: CCD | E71: =G71*I71*0.001 -> 13.77 | F71: =H71*I71*0.001 -> 9.18 | G71: 1530 | H71: 1020 | I71: 9 | J71: =0.000001*G71*H71 -> 1.5606 | M71: 16 | N71: 15 e- | O71: 1 e-/s à 0°C | P71: 4 s. | R71: ΔT -35°C
B72: ST-9 | C72: Kodak KAF-0261E | D72: CCD | E72: =G72*I72*0.001 -> 10.24 | F72: =H72*I72*0.001 -> 10.24 | G72: 512 | H72: 512 | I72: 20 | J72: =0.000001*G72*H72 -> 0.262144 | M72: 16 | N72: 15 e- | O72: 5 e-/s à 0°C | P72: < 1 s. | R72: ΔT -35°C
B73: ST-10 | C73: Kodak KAF-3200ME | D73: CCD | E73: =G73*I73*0.001 -> 14.8512 | F73: =H73*I73*0.001 -> 10.0096 | G73: 2184 | H73: 1472 | I73: 6.8 | J73: =0.000001*G73*H73 -> 3.214848 | M73: 16 | N73: 8.8 e- | O73: 1 e-/s à 0°C | P73: 8 s. | R73: ΔT -35°C
B74: ST-1603 | C74: Kodak KAF-1603ME | D74: CCD | E74: =G74*I74*0.001 -> 13.77 | F74: =H74*I74*0.001 -> 9.18 | G74: 1530 | H74: 1020 | I74: 9 | J74: =0.000001*G74*H74 -> 1.5606 | M74: 16 | N74: 17 e- | O74: 1 e-/s à 0°C | P74: 2 s. | R74: ΔT -35°C
B75: ST-2000 | C75: Kodak KAI-2020M | D75: CCD | E75: =G75*I75*0.001 -> 11.84 | F75: =H75*I75*0.001 -> 8.88 | G75: 1600 | H75: 1200 | I75: 7.4 | J75: =0.000001*G75*H75 -> 1.92 | M75: 16 | N75: 7.9 e- | O75: 0.3 e-/s à 0°C | P75: 4.5 s. | R75: ΔT -35°C
B76: ST-3200 | C76: Kodak KAF-3200ME | D76: CCD | E76: =G76*I76*0.001 -> 14.8512 | F76: =H76*I76*0.001 -> 10.0096 | G76: 2184 | H76: 1472 | I76: 6.8 | J76: =0.000001*G76*H76 -> 3.214848 | M76: 16 | N76: 10 e- | O76: 1 e-/s à 0°C | P76: 4 s. | R76: ΔT -35°C
B77: ST-8300 | C77: Kodak KAF-8300 | D77: CCD | E77: =G77*I77*0.001 -> 17.9604 | F77: =H77*I77*0.001 -> 13.5216 | G77: 3326 | H77: 2504 | I77: 5.4 | J77: =0.000001*G77*H77 -> 8.328304 | M77: 16 | N77: 9.3 e- | O77: 0.3 e-/s à 0°C | P77: 7.5 s. | R77: ΔT -35°C
B78: STL-1001 | C78: Kodak KAF-1001E | D78: CCD | E78: =G78*I78*0.001 -> 24.576 | F78: =H78*I78*0.001 -> 24.576 | G78: 1024 | H78: 1024 | I78: 24 | J78: =0.000001*G78*H78 -> 1.048576 | M78: 16 | N78: 15 e- | O78: 9 e-/s à 0°C | P78: 2.5 s. | R78: ΔT -32°C
B79: STL-11000 | C79: Kodak KAI-11002M | D79: CCD | E79: =G79*I79*0.001 -> 36.072 | F79: =H79*I79*0.001 -> 24.048 | G79: 4008 | H79: 2672 | I79: 9 | J79: =0.000001*G79*H79 -> 10.709376 | M79: 16 | N79: 13 e- | O79: 0.5 e-/s à 0°C | P79: 26 s. | R79: ΔT -32°C
B80: STL-4020 | C80: Kodak KAI-4022M | D80: CCD | E80: =G80*I80*0.001 -> 15.1552 | F80: =H80*I80*0.001 -> 15.1552 | G80: 2048 | H80: 2048 | I80: 7.4 | J80: =0.000001*G80*H80 -> 4.194304 | M80: 16 | N80: 7.9 e- | O80: 0.07 e-/s à 0°C | P80: 10 s. | R80: ΔT -32°C
B81: STL-6303 | C81: Kodak KAF-6303E | D81: CCD | E81: =G81*I81*0.001 -> 27.54 | F81: =H81*I81*0.001 -> 18.36 | G81: 3060 | H81: 2040 | I81: 9 | J81: =0.000001*G81*H81 -> 6.2424 | M81: 16 | N81: 13.5 e- | O81: 0.3 e-/s à 0°C | P81: 16 s. | R81: ΔT -32°C
B82: STX-16803 | C82: Kodak KAF-16803 | D82: CCD | E82: =G82*I82*0.001 -> 36.864 | F82: =H82*I82*0.001 -> 36.864 | G82: 4096 | H82: 4096 | I82: 9 | J82: =0.000001*G82*H82 -> 16.777216 | M82: 16 | N82: 9 e- | O82: 0.2 e-/s à 0°C | P82: 11.5 s. | R82: ΔT -50°C
B83: STL Remote Guider | C83: Kodak TC-237H | D83: CCD | E83: =G83*I83*0.001 -> 4.8618 | F83: =H83*I83*0.001 -> 3.663 | G83: 657 | H83: 495 | I83: 7.4 | J83: =0.000001*G83*H83 -> 0.325215 | M83: 16 | N83: 15 e- | O83: 15 e-/s à 0°C | P83: < 1 s.
A84: Nova-CCD | B84: Sigma-16 | C84: Kodak KAF1603ME | D84: CCD | E84: =G84*I84*0.001 -> 13.77 | F84: =H84*I84*0.001 -> 9.18 | G84: 1530 | H84: 1020 | I84: 9 | J84: =0.000001*G84*H84 -> 1.5606 | M84: 16 | N84: 12 e- | O84: 1,2 e-/s à 0°C | P84: 3,9 s | Q84: 100000 e-
B85: Sigma-32 | C85: Kodak KAF3200ME | D85: CCD | E85: =G85*I85*0.001 -> 14.8512 | F85: =H85*I85*0.001 -> 10.0096 | G85: 2184 | H85: 1472 | I85: 6.8 | J85: =0.000001*G85*H85 -> 3.214848 | M85: 16 | N85: 8 e- | O85: 0,8 e-/s à 0°C | P85: 7,8 s | Q85: 55000 e-
B86: Sigma-63 | C86: Kodak KAF6303E | D86: CCD | E86: =G86*I86*0.001 -> 27.648 | F86: =H86*I86*0.001 -> 18.432 | G86: 3072 | H86: 2048 | I86: 9 | J86: =0.000001*G86*H86 -> 6.291456 | M86: 16 | N86: 12 e- | O86: 1,0 e-/s à 0°C | P86: 15 s | Q86: 100000 e-
B87: Sigma-20 | C87: Kodak KAI2020 | D87: CCD | E87: =G87*I87*0.001 -> 11.84 | F87: =H87*I87*0.001 -> 8.88 | G87: 1600 | H87: 1200 | I87: 7.4 | J87: =0.000001*G87*H87 -> 1.92 | M87: 16 | O87: 0,1 e-/s à 0°C | Q87: 40000 e-
B88: Sigma-40 | C88: Kodak KAI4022 | D88: CCD | E88: =G88*I88*0.001 -> 15.1552 | F88: =H88*I88*0.001 -> 15.1552 | G88: 2048 | H88: 2048 | I88: 7.4 | J88: =0.000001*G88*H88 -> 4.194304 | M88: 16 | O88: 0,1 e-/s à 0°C | Q88: 40000 e-
B89: Sigma-83 | C89: Kodak KAF8300 | D89: CCD | E89: =G89*I89*0.001 -> 17.9604 | F89: =H89*I89*0.001 -> 13.5216 | G89: 3326 | H89: 2504 | I89: 5.4 | J89: =0.000001*G89*H89 -> 8.328304 | M89: 16 | N89: 9 e- | O89: 0,15 e-/s à 0°C | P89: 20,2 s | Q89: 25000 e-
A90: Starlight Xpress | B90: SXVF-H5 | C90: Sony ICX424 | D90: CCD | E90: =G90*I90*0.001 -> 4.884 | F90: =H90*I90*0.001 -> 3.6556 | G90: 660 | H90: 494 | I90: 7.4 | J90: =0.000001*G90*H90 -> 0.32604 | M90: 16 | N90: < 13 e- rms | O90: 0,02 e-/s à +10°C | P90: 0,3 s | Q90: 30000 e- | R90: ΔT - 30°C
B91: SXVR-H9 | C91: Sony ICX285AL | D91: CCD | E91: =G91*I91*0.001 -> 8.9784 | F91: =H91*I91*0.001 -> 6.708 | G91: 1392 | H91: 1040 | I91: 6.45 | J91: =0.000001*G91*H91 -> 1.44768 | M91: 16 | N91: < 7 e- rms | O91: 0,02 e-/s à +10°C | P91: 0,6 s | Q91: 23000 e- | R91: ΔT - 30°C
B92: SXV-H16 | C92: Kodak KAI4021M | D92: CCD | E92: =G92*I92*0.001 -> 15.1552 | F92: =H92*I92*0.001 -> 15.1552 | G92: 2048 | H92: 2048 | I92: 7.4 | J92: =0.000001*G92*H92 -> 4.194304 | M92: 16 | N92: < 10 e- rms | O92: 0,05 e-/s à +10°C | P92: 2,5 s | Q92: 40000 e- | R92: ΔT - 40°C
B93: SXVR-H18 | C93: Kodak KAF-8300 | D93: CCD | E93: =G93*I93*0.001 -> 17.9604 | F93: =H93*I93*0.001 -> 13.5216 | G93: 3326 | H93: 2504 | I93: 5.4 | J93: =0.000001*G93*H93 -> 8.328304 | M93: 16 | N93: < 8 e- rms | O93: 0,05 e-/s à +10°C | P93: 4,5 s | Q93: 25000 e- | R93: ΔT - 40°C
B94: SXVF-H35 | C94: Kodak KAI-11002M | D94: CCD | E94: =G94*I94*0.001 -> 36.072 | F94: =H94*I94*0.001 -> 24.048 | G94: 4008 | H94: 2672 | I94: 9 | J94: =0.000001*G94*H94 -> 10.709376 | M94: 16 | N94: < 15 e- rms | O94: 0,08 e-/s à +10°C | P94: 7 s | Q94: 50000 e- | R94: ΔT - 40°C
B95: SXVF-H36 | C95: Kodak KAI-16000M | D95: CCD | E95: =G95*I95*0.001 -> 36.2896 | F95: =H95*I95*0.001 -> 24.272 | G95: 4904 | H95: 3280 | I95: 7.4 | J95: =0.000001*G95*H95 -> 16.08512 | M95: 16 | N95: < 12 e- rms | O95: 0,05 e-/s à +10°C | P95: 10 s. | Q95: 30000 e- | R95: ΔT - 40°C
B96: Loadstar | C96: Sony ICX429AL | D96: CCD | E96: =G96*0.0082 -> 6.1664 | F96: =H96*0.0084 -> 4.872 | G96: 752 | H96: 580 | I96: 8,2×8,4 | J96: =0.000001*G96*H96 -> 0.43616 | M96: 16 | N96: < 15 e- rms | O96: 0,1 e-/s à +10°C | P96: 0,2 s | Q96: 50000 e-
A97: The Imaginig Source | B97: DMK 21 | C97: Sony ICX098 | D97: CCD | E97: =G97*I97*0.001 -> 3.584 | F97: =H97*I97*0.001 -> 2.688 | G97: 640 | H97: 480 | I97: 5.6 | J97: =0.000001*G97*H97 -> 0.3072 | K97: 60 | M97: 8
B98: DMK 31 | C98: Sony ICX204 | D98: CCD | E98: =G98*I98*0.001 -> 4.7616 | F98: =H98*I98*0.001 -> 3.5712 | G98: 1024 | H98: 768 | I98: 4.65 | J98: =0.000001*G98*H98 -> 0.786432 | K98: 30 | M98: 8
B99: DMK 41 | C99: Sony ICX205 | D99: CCD | E99: =G99*I99*0.001 -> 5.952 | F99: =H99*I99*0.001 -> 4.464 | G99: 1280 | H99: 960 | I99: 4.65 | J99: =0.000001*G99*H99 -> 1.2288 | K99: 15 | M99: 8
B100: DMK 51 | C100: Sony ICX274 | D100: CCD | E100: =G100*I100*0.001 -> 7.04 | F100: =H100*I100*0.001 -> 5.28 | G100: 1600 | H100: 1200 | I100: 4.4 | J100: =0.000001*G100*H100 -> 1.92 | K100: 12 | M100: 8
A101: QHY | B101: QHY90A | C101: KAF8300 | D101: CMOS | E101: =TRUNC((G101*I101)/1000,2) -> 18.13 | F101: =TRUNC(H101*I101/1000,2) -> 13.69 | G101: 3358 | H101: 2536 | I101: 5.4 | J101: 8.6 | M101: 16bit | N101: Typical 9 e-
B102: QHY16200A | C102: KAF16200 | D102: CMOS | E102: =TRUNC((G102*I102)/1000,2) -> 27.46 | F102: =TRUNC(H102*I102/1000,2) -> 21.9 | G102: 4540 | H102: 3620 | I102: 6.05 | J102: 16 | M102: 16bit | N102: Typical 10 e
B103: QHY695A | C103: ICX695 | D103: CMOS | E103: =TRUNC((G103*I103)/1000,2) -> 12.52 | F103: =TRUNC(H103*I103/1000,2) -> 10.02 | G103: 2758 | H103: 2208 | I103: 4.54 | J103: 6 | M103: 16bit | N103: Typical 4 e-5e
B104: QHY16803A | C104: KAF16803 | D104: CMOS | E104: =TRUNC((G104*I104)/1000,2) -> 36 | F104: =TRUNC(H104*I104/1000,2) -> 36 | G104: 4000 | H104: 4000 | I104: 9 | J104: 16.8 | M104: 16bit | N104: Typical 10 .2 e-
B105: QHY09000A | C105: KAF09000 | D105: CMOS | E105: =TRUNC((G105*I105)/1000,2) -> 36 | F105: =TRUNC(H105*I105/1000,2) -> 36 | G105: 3000 | H105: 3000 | I105: 12 | J105: 9 | M105: 16bit
B106: QHY8L | C106: ICX413AQ | D106: CMOS | E106: =TRUNC((G106*I106)/1000,2) -> 24.25 | F106: =TRUNC(H106*I106/1000,2) -> 15.83 | G106: 3110 | H106: 2030 | I106: 7.8 | J106: 6 | M106: 16bit | N106: 6-10 e- @ 600 Kpixel/s
B107: QHY10 | C107: ICX493AQ | D107: CMOS | E107: =TRUNC((G107*I107)/1000,2) -> 23.98 | F107: =TRUNC(H107*I107/1000,2) -> 16.4 | G107: 3964 | H107: 2712 | I107: 6.05 | J107: 10 | M107: 16bit | N107: 8-10 e- @600 Kpixel/s
B108: QHY12 | C108: Sony Super HAD | D108: CMOS | E108: =TRUNC((G108*I108)/1000,2) -> 23.6 | F108: =TRUNC(H108*I108/1000,2) -> 15.76 | G108: 4610 | H108: 3080 | I108: 5.12 | J108: 14.2 | M108: 16bit | N108: 8-10 e- @600 Kpixel/s
B109: IMG2PRO | C109: ICX285 | D109: CMOS | E109: =TRUNC((G109*I109)/1000,2) -> 8.97 | F109: =TRUNC(H109*I109/1000,2) -> 6.7 | G109: 1392 | H109: 1040 | I109: 6.45 | J109: 1.4 | M109: 16bit | N109: 6 e- @600 Kpixel/s
B110: QHY9 | C110: KAF8300 | D110: CMOS | E110: =TRUNC((G110*I110)/1000,2) -> 18.61 | F110: =TRUNC(H110*I110/1000,2) -> 13.89 | G110: 3448 | H110: 2574 | I110: 5.4 | J110: 8.6 | M110: 16bit | N110: 8e- to 10e-(Typic @1Mpixel/s)
B111: QHY11 | C111: KAI11002 | D111: CMOS | E111: =TRUNC((G111*I111)/1000,2) -> 0 | F111: =TRUNC(H111*I111/1000,2) -> 0 | G111: 4072 | H111: 2720 | J111: 11 | M111: 16bit | N111: 12-14e
B112: QHY21 | C112: ICX674 | D112: CMOS | E112: =TRUNC((G112*I112)/1000,2) -> 13.21 | F112: =TRUNC(H112*I112/1000,2) -> 9.65 | G112: 2020 | H112: 1476 | I112: 6.54 | J112: 3 | M112: 16bit | N112: 5e- (Typical @1.25 Mpixel/s)
B113: QHY22 | C113: ICX694 | D113: CMOS | E113: =TRUNC((G113*I113)/1000,2) -> 12.88 | F113: =TRUNC(H113*I113/1000,2) -> 10.09 | G113: 2838 | H113: 2224 | I113: 4.54 | J113: 6 | M113: 16bit | N113: 5e- (Typical @1.25 Mpixel/s)
B114: QHY23 | C114: ICX814 | D114: CMOS | E114: =TRUNC((G114*I114)/1000,2) -> 13.46 | F114: =TRUNC(H114*I114/1000,2) -> 10.06 | G114: 3648 | H114: 2728 | I114: 3.69 | J114: 9 | M114: 16bit | N114: 5e- (Typical @1.25 Mpixel/s)
B115: QHY27 | C115: KAI16050 | D115: CMOS | E115: =TRUNC((G115*I115)/1000,2) -> 27.3 | F115: =TRUNC(H115*I115/1000,2) -> 18.32 | G115: 4964 | H115: 3332 | I115: 5.5 | J115: 16 | M115: 16bit | N115: TBD
...
